BEGIN:VCALENDAR
VERSION:2.0
PRODID:-//FRLA - ECPv6.15.20//NONSGML v1.0//EN
CALSCALE:GREGORIAN
METHOD:PUBLISH
X-WR-CALNAME:FRLA
X-ORIGINAL-URL:https://frla.devlara.com
X-WR-CALDESC:Events for FRLA
REFRESH-INTERVAL;VALUE=DURATION:PT1H
X-Robots-Tag:noindex
X-PUBLISHED-TTL:PT1H
BEGIN:VTIMEZONE
TZID:America/New_York
BEGIN:DAYLIGHT
TZOFFSETFROM:-0500
TZOFFSETTO:-0400
TZNAME:EDT
DTSTART:20240310T070000
END:DAYLIGHT
BEGIN:STANDARD
TZOFFSETFROM:-0400
TZOFFSETTO:-0500
TZNAME:EST
DTSTART:20241103T060000
END:STANDARD
BEGIN:DAYLIGHT
TZOFFSETFROM:-0500
TZOFFSETTO:-0400
TZNAME:EDT
DTSTART:20250309T070000
END:DAYLIGHT
BEGIN:STANDARD
TZOFFSETFROM:-0400
TZOFFSETTO:-0500
TZNAME:EST
DTSTART:20251102T060000
END:STANDARD
BEGIN:DAYLIGHT
TZOFFSETFROM:-0500
TZOFFSETTO:-0400
TZNAME:EDT
DTSTART:20260308T070000
END:DAYLIGHT
BEGIN:STANDARD
TZOFFSETFROM:-0400
TZOFFSETTO:-0500
TZNAME:EST
DTSTART:20261101T060000
END:STANDARD
BEGIN:DAYLIGHT
TZOFFSETFROM:-0500
TZOFFSETTO:-0400
TZNAME:EDT
DTSTART:20270314T070000
END:DAYLIGHT
BEGIN:STANDARD
TZOFFSETFROM:-0400
TZOFFSETTO:-0500
TZNAME:EST
DTSTART:20271107T060000
END:STANDARD
END:VTIMEZONE
BEGIN:VEVENT
DTSTART;TZID=America/New_York:20260325T090000
DTEND;TZID=America/New_York:20260325T103000
DTSTAMP:20260420T120607
CREATED:20260224T170950Z
LAST-MODIFIED:20260224T171622Z
UID:10004609-1774429200-1774434600@frla.devlara.com
SUMMARY:Northeast - Annual Women in Hospitality Panel
DESCRIPTION:Join the Northeast Chapter of the Florida Restaurant & Lodging Association for our annual Women in Hospitality Leadership Panel Discussion. Don’t miss this dynamic panel discussion spotlighting the women shaping the future of Northeast Florida’s restaurant and lodging industry. \nDate: March 25\, 2026\nTime: 9:00 – 10:30 AM\nLocation: Southbank Hotel Jacksonville Riverwalk\, 1515 Prudential Drive\, Jacksonville\, FL \nThis engaging conversation will explore leadership\, resilience\, innovation\, and the evolving opportunities for women across hospitality. \nModerator: John Shermetaro\, Shermetaro Speaking \nPanelists:\n• Antonette Palacios\, CEO\, V Pizza\n• Jennifer Morken\, Interim General Manager\, Renaissance Resort at World Golf Village\n• Leila Deitsch\, Assistant Director of Human Resources\, Hyatt Regency Jacksonville Riverfront \nOur discussion will explore: \n\nBreaking barriers and advancing into leadership roles\nBuilding resilient\, high-performing teams\nEmerging trends shaping the future of hospitality\nMentorship\, advocacy\, and developing the next generation of leaders\n\nAttendees will gain practical insights\, connect with peers and industry executives\, and leave inspired to continue elevating hospitality across Northeast Florida. \nNo cost to attend\, but advanced registration is required. \nClick Here to RSVP  
URL:https://frla.devlara.com/event/northeast-annual-women-in-hospitality-panel/
LOCATION:Southbank Hotel Jacksonville Riverwalk\, 1515 Prudential Drive\, Jacksonville\, 32207\, United States
CATEGORIES:Northeast
ATTACH;FMTTYPE=image/png:https://frla.devlara.com/wp-content/uploads/2026/02/web-NE-2026-Women-in-Hospitality-Panel.png
ORGANIZER;CN="Nicole Chapman":MAILTO:nchapman@frla.devlara.com
END:VEVENT
BEGIN:VEVENT
DTSTART;TZID=America/New_York:20260225T173000
DTEND;TZID=America/New_York:20260225T203000
DTSTAMP:20260420T120607
CREATED:20250618T153506Z
LAST-MODIFIED:20260220T025439Z
UID:10004543-1772040600-1772051400@frla.devlara.com
SUMMARY:Northeast - 17th Annual ROSE Awards
DESCRIPTION:  \nEvent registration has closed. For questions\, please contact Nicole at nchapman@frla.devlara.com\n\nJoin the FRLA Northeast Chapter to celebrate the 17th Annual ROSE Awards! \nPlease join the Florida Restaurant & Lodging Association (FRLA) Northeast Chapter at the Recognition of Service Excellence (ROSE) Awards as we honor Northeast Florida frontline hospitality employees who demonstrate excellent customer service and keep our industry thriving. These industry champions showcase the region’s commitment to creating an extraordinary visitor experience! \nWednesday\, February 25\, 2026  \n5:30 pm – 8:30 pm \nHyatt Regency Jacksonville Riverfront\n225 E Coastline Dr.\nJacksonville\, FL 32202 \n5:30 PM – 6:15 PM Registration/Cocktail Hour \n6:15 PM – 8:30 PM Dinner/Award Program \nDress: Business/Cocktail \nCOST: Members: $85 per person or $670 per table (8 seats) \nFuture Members: $100 per person or $775 table (8 seats) \nIf you wish to pay with a check and receive invoice\, please email nchapman@frla.devlara.com \n \nSponsorship Opportunities \n  \nClick here to learn more about ROSE Awards and for the nomination information.  \n  \n\n \n\n 
URL:https://frla.devlara.com/event/northeast-17th-annual-rose-awards/
LOCATION:Hyatt Regency Jacksonville Riverfront\, 225 East Coastline Drive\, Jacksonville\, FL\, 32202\, United States
CATEGORIES:Northeast
ATTACH;FMTTYPE=image/png:https://frla.devlara.com/wp-content/uploads/2025/06/2026-ROSE-header-web.png
ORGANIZER;CN="Nicole Chapman":MAILTO:nchapman@frla.devlara.com
END:VEVENT
BEGIN:VEVENT
DTSTART;TZID=America/New_York:20260203T163000
DTEND;TZID=America/New_York:20260203T180000
DTSTAMP:20260420T120607
CREATED:20251210T221956Z
LAST-MODIFIED:20251210T224959Z
UID:10004592-1770136200-1770141600@frla.devlara.com
SUMMARY:Northeast - 2026 Board Installation & Mixer
DESCRIPTION:Kick off 2026 with the FRLA Northeast Chapter at our exciting mix-and-mingle event! \n  \nJoin us to kick off the new year and mix and mingle with our 2026 Board of Directors. We will highlight chapter updates for 2026 and enjoy a casual networking reception. The event will begin with the 2026 Board Installation ceremony. \nTo view the listing of the 2026 Board of Directors visit\, http://frla.devlara.com/chapters/northeast/ \nTuesday\, February 3\, 2026 \n4:30-6 p.m.\nChampion Brands\, 5571 Florida Mining Blvd S\, Jacksonville\, FL 32257 \n  \nEvent Cost: \nFRLA Members: $30\nFuture Members: $45 \nIncludes one drink ticket for beer or wine\, in addition to appetizers. Cash bar available. \nREGISTER NOW\n  \n \n 
URL:https://frla.devlara.com/event/northeast-2026-board-installation-mixer/
LOCATION:Champion Brands\, 5571 Florida Mining Blvd S\, Jacksonville\, 32257\, United States
CATEGORIES:Northeast
ATTACH;FMTTYPE=image/png:https://frla.devlara.com/wp-content/uploads/2025/12/Web-NE-2026-Board-Install-.png
ORGANIZER;CN="Nicole Chapman":MAILTO:nchapman@frla.devlara.com
END:VEVENT
BEGIN:VEVENT
DTSTART;TZID=America/New_York:20260128T090000
DTEND;TZID=America/New_York:20260128T103000
DTSTAMP:20260420T120607
CREATED:20251107T204107Z
LAST-MODIFIED:20251107T204107Z
UID:10004581-1769590800-1769596200@frla.devlara.com
SUMMARY:Northeast - Annual THE PLAYERS Championship & Golf Tourism Update
DESCRIPTION:The FRLA Northeast Chapter invites you to our annual THE PLAYERS Championship & Golf Tourism Update featuring insights from Lee Smith\, Executive Director of THE PLAYERS Championship\, as he shares what’s in store for the 2026 tournament\, March 10–15\, 2026. \nWe’ll also hear from David Reese\, President & CEO of Florida’s First Coast of Golf\, who will share the latest golf tourism trends and data shaping travel decisions across Northeast Florida. David will share the outlook on the current and projected state of golf tourism\, including insights on visitor demographics\, economic impact\, and marketing strategies that position our region as a premier golf destination. \nDon’t miss this exclusive opportunity to connect with industry leaders and get an inside look at what’s ahead for one of Northeast Florida’s premier sporting events. Light breakfast and refreshments provided by Sawgrass Marriott. \n  \nEvent Details: \n Wednesday\, January 28\, 2026\n⏰ 9:00 a.m. – 10:30 a.m.\n Sawgrass Marriott\n1000 Tournament Players Club Blvd\, Ponte Vedra Beach\, FL 32082\nRoom: Champions E \n \nEvent Cost:\n FREE!\n**Pre-registration is required!**\nRegister Now!\n  \nABOUT: Lee Smith Executive Director\, THE PLAYERS Championship\nIn his role as Executive Director of THE PLAYERS\, Lee oversees all aspects of the PGA TOUR’s flagship event\, from sales\, marketing and operations to community and charitable outreach and support. In addition\, he leads THE PLAYERS Council\, an association of corporate and community leaders who share THE PLAYERS’ commitment to economic growth and development. Lee joined THE PLAYERS team in 2023\, and prior to that served as the General Manager at Liberty National Golf Club in Jersey City\, New Jersey\, a property managed by the PGA TOUR\, where he was instrumental in helping the PGA TOUR contest THE NORTHERN TRUST in 2019 and 2021. \nSmith has been a key member of the TPC Network since he joined in 2008\, serving as Head Golf Professional at TPC Sugarloaf outside Atlanta; General Manager of TPC Summerlin in Las Vegas; and Regional Director of Operations for TPC Networks\, a role he held concurrently with his position at Liberty National. He has been a Class A member of the PGA of America for more than 20 years. \nOriginally from Illinois\, Smith graduated with a degree in Sports Management from Southeast Missouri State University (where he was a letterwinner on the men’s golf team) and later attended the Sandra Day O’Connor College of Law at Arizona State University\, where he earned a Masters in Sports Law & Business. Widely recognized as an outstanding golf professional\, Lee has been named twice\, in both 2013 & 2017\, as Golf Professional of the Year for the Las Vegas Chapter PGA\, and 2015 Golf Club Operator of the Year by Golf Inc. Magazine. 
URL:https://frla.devlara.com/event/northeast-annual-the-players-championship-golf-tourism-update/
LOCATION:Sawgrass Marriott\, 1000 Tournament Players Club Blvd\, Ponte Vedra Beach\, 32082\, United States
CATEGORIES:Northeast
ATTACH;FMTTYPE=image/png:https://frla.devlara.com/wp-content/uploads/2025/11/Web-THE-PLAYERS-Championship-Update-2026-1100-x-340-px.png
ORGANIZER;CN="Nicole Chapman":MAILTO:nchapman@frla.devlara.com
END:VEVENT
BEGIN:VEVENT
DTSTART;TZID=America/New_York:20260112T160000
DTEND;TZID=America/New_York:20260112T190000
DTSTAMP:20260420T120607
CREATED:20251204T215016Z
LAST-MODIFIED:20251205T134651Z
UID:10004590-1768233600-1768244400@frla.devlara.com
SUMMARY:Northeast - Nights of Lights Closing Party
DESCRIPTION:Nights of Lights Closing Party \nLet’s wrap up another sparkling Nights of Lights and a fantastic holiday season—St. Augustine style! \nJoin us upstairs at Meehan’s Oyster Bar for: \n\nTasty appetizers\nYour first drink on us\nGreat company\, laughs\, and stories from the season\n\nBring your team\, your holiday cheer\, and your best Nights of Lights memories as we toast to a successful season and look ahead to an even brighter year! \nOnly 50 tickets are available\, once they’re gone\, they’re gone! Reserve yours today! \n  \nEvent Details: \nMonday\, January 12\, 2026\n4:00 pm – 7:00 pm\nMeehan’s Irish Pub – Upstairs Oyster Bar\n20 Avenida Menendez\, St. Augustine\, FL 32084 \nEvent Cost: $15 (includes apps and one drink)\n  \nREGISTER NOW
URL:https://frla.devlara.com/event/northeast-nights-of-lights-closing-party/
LOCATION:Meehan’s Irish Pub\, 20 Avenida Menendez\, St. Augustine\, FL\, United States
CATEGORIES:Northeast
ATTACH;FMTTYPE=image/png:https://frla.devlara.com/wp-content/uploads/2025/12/Night-of-Lights-Closing-Party-2026-1100-×-340-px.png
ORGANIZER;CN="Nicole Chapman":MAILTO:nchapman@frla.devlara.com
END:VEVENT
BEGIN:VEVENT
DTSTART;TZID=America/New_York:20251201T080000
DTEND;TZID=America/New_York:20251201T130000
DTSTAMP:20260420T120607
CREATED:20250611T142543Z
LAST-MODIFIED:20251106T204745Z
UID:10004541-1764576000-1764594000@frla.devlara.com
SUMMARY:Northeast - 2025 Bust A Clay
DESCRIPTION:Join us for an exciting day of sporting clay action\, networking\, and friendly competition with your industry colleagues! Whether you’re a seasoned marksman or trying it for the first time\, bring your team and clients for a memorable experience that builds camaraderie and connections. \nYour participation directly supports the FRLA Northeast Chapter\, helping us empower the next generation of culinary talent from sixteen area high schools through the ProStart Culinary Training program. Funds raised will also strengthen our advocacy efforts through the FRLA PAC. \nDon’t miss this opportunity to make an impact while having fun! \nSchedule:\n8-8:30 a.m. Registration & Light Breakfast\n8:45 a.m. Safety Briefing\n9 a.m. Shoot\nLunch & Award Ceremony following play \nEvent Registration:\nFoursome: $550\nIndividual: $180\nIncludes: Light Breakfast\, Clays\, Shells\, Golf Cart\, Lunch included\nNote: you will need to provide your own equipment (shotgun) \nSponsorship Opportunities: \n**SOLD** Shell Sponsor: $1\,000\nYour company logo on each shell box and recognition at event. \nSupporting Sponsor: $750\nRecognition at event and a station sign. \n**SOLD**  Turkey Shoot sponsor: $500\nYou are the host for the Turkey shoot!  Greet each player and announce winners. \nRefreshment/Snack break sponsor: $300\nProvide a refreshment at the turn and greet each player. \n  \nRegister Now! \n 
URL:https://frla.devlara.com/event/northeast-2025-bust-a-clay/
LOCATION:Jacksonville Clay Target Sports\, 12125 New Berlin Rd\, Jacksonville\, FL\, 32226\, United States
CATEGORIES:Northeast
ATTACH;FMTTYPE=image/png:https://frla.devlara.com/wp-content/uploads/2025/06/Bust-a-Clay-2025-1100-×-340-px.png
ORGANIZER;CN="Nicole Chapman":MAILTO:nchapman@frla.devlara.com
GEO:30.4574708;-81.5550355
X-APPLE-STRUCTURED-LOCATION;VALUE=URI;X-ADDRESS=Jacksonville Clay Target Sports 12125 New Berlin Rd Jacksonville FL 32226 United States;X-APPLE-RADIUS=500;X-TITLE=12125 New Berlin Rd:geo:-81.5550355,30.4574708
END:VEVENT
BEGIN:VEVENT
DTSTART;TZID=America/New_York:20251029T090000
DTEND;TZID=America/New_York:20251029T103000
DTSTAMP:20260420T120607
CREATED:20250925T195428Z
LAST-MODIFIED:20250925T195844Z
UID:10004568-1761728400-1761733800@frla.devlara.com
SUMMARY:Northeast - FRLA Leadership Series: Qualities of a Leader
DESCRIPTION:Join the Florida Restaurant & Lodging Association Northeast Chapter for our annual Qualities of a Leader Program. Each year\, FRLA spotlights an industry leader in a candid conversation about the qualities that shaped their path to success. This year\, we invite you to join us for a casual discussion with Curtis Osmond as we explore the Qualities of a Leader. \nThis interactive conversation will explore Curtis’s journey in the hospitality industry. How he got started\, the challenges he’s faced\, the values that have shaped him\, and the lessons he’s learned along the way. \nWe’ll touch on his career growth\, education\, volunteer work\, and development\, and hear his advice for those pursuing leadership and success. This won’t be a speech—it’s an intimate discussion designed to inspire and engage. \nEvent Details: \nWednesday\, October 29\, 2025\n9:00–10:30 a.m.\nAloft Jacksonville Tapestry Park\n4812 W Deer Lake Dr\, Jacksonville\, FL 32246 \nAbout Curtis Osmond:\nCurtis graduated from Oklahoma State University with a degree in Hospitality Management. He served as Proprietor of Jacksonville’s III Forks before joining the corporate office of Consolidated Restaurant Operations (CRO)\, which manages brands including III Forks\, Cantina Laredo\, El Chico\, Silver Fox\, Lucky’s Café\, Cool River\, and Black Oak Grill. Curtis specializes in fine dining steakhouses and brings a wealth of experience in leadership and growth. \n  \nRegister Now! \n  \n 
URL:https://frla.devlara.com/event/northeast-frla-leadership-series-qualities-of-a-leader/
LOCATION:Aloft Jacksonville Tapestry Park\, 4812 Deer Lake Dr W\, Jacksonville\, FL\, 32246\, United States
CATEGORIES:Northeast
ATTACH;FMTTYPE=image/png:https://frla.devlara.com/wp-content/uploads/2025/09/Web-25-NE-Qualities-of-leader-1100-x-340-px.png
ORGANIZER;CN="Nicole Chapman":MAILTO:nchapman@frla.devlara.com
GEO:30.2598637;-81.5549131
X-APPLE-STRUCTURED-LOCATION;VALUE=URI;X-ADDRESS=Aloft Jacksonville Tapestry Park 4812 Deer Lake Dr W Jacksonville FL 32246 United States;X-APPLE-RADIUS=500;X-TITLE=4812 Deer Lake Dr W:geo:-81.5549131,30.2598637
END:VEVENT
BEGIN:VEVENT
DTSTART;TZID=America/New_York:20250903T090000
DTEND;TZID=America/New_York:20250903T103000
DTSTAMP:20260420T120607
CREATED:20250826T191136Z
LAST-MODIFIED:20250826T191136Z
UID:10004559-1756890000-1756895400@frla.devlara.com
SUMMARY:Northeast - HR Panel: How to Grow Your Career in Hospitality
DESCRIPTION:Join the Florida Restaurant & Lodging Association Northeast Chapter for our annual HR Panel:  Climbing the Ladder: How to Grow Your Career in Hospitality! This engaging session is designed to inspire and equip hospitality professionals at all levels with real-world strategies for career growth. Through a dynamic panel discussion and interactive breakout groups\, attendees will gain actionable insights on: \n\nNavigating career pathways in today’s evolving hospitality industry\nDeveloping skills and mindsets that lead to promotion\nLearning from real-life success stories of industry leaders\n\nThis panel is ideal for frontline hospitality staff\, mid-level managers aiming for senior roles\, and HR professionals supporting career development! We encourage you to bring your staff and colleagues for a morning of learning\, networking\, and inspiration. It’s a great opportunity to invest in your team’s growth and connect with others in the industry. \nFeaturing:\nModerator: Samara Johns\, One Ocean Resort\nPanelists: Amy Walter\, V’s Pizza | Valencia Grooms\, Sawgrass Marriott \nEvent Details: \nWednesday\, September 3 | 9:00–10:30 a.m.\nV Pizza + Sidecar – Gate Parkway\n7510 Gate Pkwy\, Jacksonville\, FL 32256 \nEvent Cost:\nFREE!  \nRegister Now\n 
URL:https://frla.devlara.com/event/northeast-hr-panel-how-to-grow-your-career-in-hospitality/
LOCATION:V Pizza + Sidecar – Gate Parkway\, 7510 Gate Pkwy\, Jacksonville\, 32256\, United States
CATEGORIES:Northeast
ATTACH;FMTTYPE=image/png:https://frla.devlara.com/wp-content/uploads/2025/08/Web-NE-HR-Panel-Sept-25-.png
ORGANIZER;CN="Nicole Chapman":MAILTO:nchapman@frla.devlara.com
END:VEVENT
BEGIN:VEVENT
DTSTART;TZID=America/New_York:20250716T163000
DTEND;TZID=America/New_York:20250716T180000
DTSTAMP:20260420T120607
CREATED:20250625T134449Z
LAST-MODIFIED:20250625T143844Z
UID:10004545-1752683400-1752688800@frla.devlara.com
SUMMARY:Northeast - Christmas in July Mixer
DESCRIPTION:Cool Connections in the Heat of Summer!\nJoin FRLA Northeast Chapter for a jolly good time at our Christmas in July Mixer—where networking meets holiday cheer (without the sweaters). Mingle with fellow hotel and restaurant leaders\, enjoy festive bites and get a mid-year boost of holiday spirit. \nEvent Details: \nWednesday\, July 16\, 2025\n4:30-6:00 p.m.\nBlue Bamboo\n10110 San Jose Blvd\, Jacksonville\, FL \nAttire: Summer Festive or Business Casual with a holiday twist! \nTickets:\nMembers: $20\nFuture Members $30 \nRegister Now! \n  \nPLUS — Don’t Miss Our Online Christmas in July Auction!\nThis festive summer fundraiser will feature restaurant gift cards\, hotel stays\, and exclusive experiences—the perfect chance to start your holiday shopping early while supporting a great cause.  Bid from the comfort of your smartphone. The auction runs July 14-July 21\, and all proceeds benefit the FRLA PAC\, helping us continue vital advocacy efforts that protect and promote Florida’s hospitality industry.  We will share auction link soon! CLICK HERE for more info! \n  \nLet’s make spirits bright—and keep our industry strong—this Christmas in July!
URL:https://frla.devlara.com/event/northeast-christmas-in-july-mixer/
LOCATION:Blue Bamboo\, 3820 Southside Blvd\, Jacksonville\, FL\, 32216\, United States
CATEGORIES:Northeast
ATTACH;FMTTYPE=image/png:https://frla.devlara.com/wp-content/uploads/2025/06/Web-NE-2025-Christmas-in-July-1.png
ORGANIZER;CN="Nicole Chapman":MAILTO:nchapman@frla.devlara.com
GEO:30.2775863;-81.5598146
X-APPLE-STRUCTURED-LOCATION;VALUE=URI;X-ADDRESS=Blue Bamboo 3820 Southside Blvd Jacksonville FL 32216 United States;X-APPLE-RADIUS=500;X-TITLE=3820 Southside Blvd:geo:-81.5598146,30.2775863
END:VEVENT
BEGIN:VEVENT
DTSTART;TZID=America/New_York:20250714T080000
DTEND;TZID=America/New_York:20250721T170000
DTSTAMP:20260420T120607
CREATED:20250509T160712Z
LAST-MODIFIED:20250714T182813Z
UID:10004534-1752480000-1753117200@frla.devlara.com
SUMMARY:Northeast - Summer Silent Auction Benefitting FRLA PAC
DESCRIPTION:Christmas in July Silent Auction is OPEN! \n  \nWe’re decking the halls early with our Christmas in July Online Silent Auction – it’s LIVE! \nNow’s your chance to score incredible hotel stays\, restaurant gift cards\, and more—all while supporting the FRLA PAC. \n From beach getaways to gourmet dinners\, you’ll find something for everyone (including yourself)! \n  \n Bidding closes Monday\, July 21 at 8 p.m.  \nDon’t miss out—treat yourself or get ahead on holiday gifts early! \n  \nLet’s make spirits bright—and keep our industry strong—this Christmas in July! \n  \nStart Your Bidding! Click Here!
URL:https://frla.devlara.com/event/northeast-summer-silent-auction-benefitting-frla-pac/
CATEGORIES:Northeast
ATTACH;FMTTYPE=image/png:https://frla.devlara.com/wp-content/uploads/2025/05/Web-NE-Silent-Auction.png
ORGANIZER;CN="Nicole Chapman":MAILTO:nchapman@frla.devlara.com
END:VEVENT
BEGIN:VEVENT
DTSTART;TZID=America/New_York:20250618T090000
DTEND;TZID=America/New_York:20250618T103000
DTSTAMP:20260420T120607
CREATED:20250508T200902Z
LAST-MODIFIED:20250508T201004Z
UID:10004533-1750237200-1750242600@frla.devlara.com
SUMMARY:Northeast Chapter - Workshop: Smart Social Media Moves for Tight Marketing Budgets
DESCRIPTION:Workshop: More Reach\, Less Spend- Smart Social Media Moves for Tight Marketing Budgets  \nPresented by: Grace Stoyshich and Rachel Harris\, Social Beans Creative Agency \n  \nIf you’re a restaurant or hospitality business trying to grow your presence online without breaking the bank—you’re not alone. Join us for an exclusive free workshop hosted by the Florida Restaurant and Lodging Association (FRLA) and led by Social Beans\, a creative agency dedicated to helping hospitality brands thrive on social media. \nEvent Details: \nWednesday\, June 18\, 2025\n9-9:30 a.m. Networking\n9:30-10:30 a.m. Program\nCulhane’s Irish Pub Southside\n9720 Deer Lake Ct.\, Jacksonville\, FL \nIn this fast-paced\, practical session\, you’ll learn how to: \n\nPartner with local micro-influencers without paying big fees\nRun community-driven giveaways that actually grow your audience\nTap into on-brand trends without feeling inauthentic\nUse free content tools to create stunning visuals in minutes\nBuild a simple content calendar to save hours each week\nAnd more tips to boost your reach without paid ads\n\nWhether you’re doing your social media solo or working with a small team\, this workshop will give you tools you can use immediately—no fluff\, no overwhelm. \nEvent Cost: \nFREE \nRSVP  Now! \n  \n 
URL:https://frla.devlara.com/event/northeast-chapter-workshop-smart-social-media-moves-for-tight-marketing-budgets/
LOCATION:Culhane’s Irish Pub Southside\, 9720 Deer Lake Ct.\, Jacksonville\, 32246\, United States
CATEGORIES:Northeast
ATTACH;FMTTYPE=image/png:https://frla.devlara.com/wp-content/uploads/2025/05/Web-NE-June-2025-Social-Media-1100-x-340-px.png
ORGANIZER;CN="Nicole Chapman":MAILTO:nchapman@frla.devlara.com
END:VEVENT
BEGIN:VEVENT
DTSTART;TZID=America/New_York:20250611T100000
DTEND;TZID=America/New_York:20250611T110000
DTSTAMP:20260420T120607
CREATED:20250502T161728Z
LAST-MODIFIED:20250529T145842Z
UID:10004531-1749636000-1749639600@frla.devlara.com
SUMMARY:Central FL/Northeast/Broward Chapter - Webinar: Boost Your Hospitality Profits: Insider Strategies Revealed
DESCRIPTION:Boost Your Hospitality Profits: Insider Strategies Revealed\nJoin the FRLA Central Florida\, Northeast\, and Broward Chapters for this Webinar! \nWednesday\, June 11\, 2025\n10:00 – 11:00 AM ET\n➡️Register via Zoom⬅️\n  \nIn today’s fast-paced hospitality landscape\, making more intelligent and more timely financial decisions with the right tools at the right time can make all the difference. \nJoin the FRLA Central Florida\, Northeast\, and Broward Chapters for this exclusive digital session led by Chris Pumo\, founder of Skyline Analytics\, where he’ll share how FP&A is transforming hospitality operations—from real-time financial dashboards to predictive labor scheduling and cost control strategies. \nKey Takeaways:\n\nMaximize profitability through strategic pricing & COGS analysis.\nOptimize labor & reduce overtime with predictive planning.\nApply FP&A for line-by-line margin improvement.\nBuild best-in-class forecasts & month-end packages that drive smarter growth.\nUse AI-enhanced dashboards for real-time financial clarity.\n\n\n\n\n\n  \nRegister Now
URL:https://frla.devlara.com/event/central-fl-northeast-chapter-webinar-boost-your-hospitality-profits-insider-strategies-revealed/
CATEGORIES:Broward,Central FL,Northeast
ATTACH;FMTTYPE=image/png:https://frla.devlara.com/wp-content/uploads/2025/05/Web-NECF-June-2025-Webinar.png
ORGANIZER;CN="Mel Coffey":MAILTO:mel@frla.devlara.com
END:VEVENT
BEGIN:VEVENT
DTSTART;TZID=America/New_York:20250507T090000
DTEND;TZID=America/New_York:20250507T103000
DTSTAMP:20260420T120607
CREATED:20250421T162108Z
LAST-MODIFIED:20250421T162315Z
UID:10004528-1746608400-1746613800@frla.devlara.com
SUMMARY:Northeast - Hospitality Outlook
DESCRIPTION:Celebrate National Travel & Tourism Week with FRLA at the Northeast Florida Tourism Outlook! \nTourism is one of Florida’s most powerful economic drivers. In 2024\, our state welcomed a record-breaking 142.9 million visitors — a 1.6% increase over 2023 and the highest annual visitation in Florida’s history. Tourism contributes an impressive $127.7 billion to Florida’s economy and generates $17.1 billion in state and local tax revenue. \nJoin us as we hear from our regional experts — your local tourism marketing agencies — on the latest strategies and initiatives bringing leisure\, business\, and group travelers to our area. Discover how to connect with these agencies\, access valuable resources\, and leverage their efforts to drive more guests to your hotels and restaurants. \nLet’s work together to keep Florida’s tourism industry thriving! \nOur session will be moderated by Brenna Dacks\, Northeast Florida Representative from VISIT FLORIDA\, the state’s official tourism marketing agency. She will lead a panel discussion featuring our local Destination Marketing Organization (DMO) leaders: \n\nPaul Beirnes\, Amelia Island Convention & Visitors Bureau\nMichael Corrigan\, Visit Jacksonville\nSusan Phillips\, St. Augustine\, Ponte Vedra & The Beaches Visitors & Convention Bureau\n\n  \n \n  \nEvent Details:  \nWednesday\, May 7\, 2025\n9:00 – 10:30 AM\nSouthbank Hotel Jacksonville Riverwalk\n1515 Prudential Drive\, Jacksonville\, FL 32207 \n9:00 – 9: 20 AM – Networking\n9:20 – 9:30 AM – Welcome\n9:30 – 10:30 AM – Panel \nEvent Cost: FREE \nRegister Now! \n  \nSponsored by: \n \n 
URL:https://frla.devlara.com/event/northeast-hospitality-outlook/
LOCATION:Southbank Hotel Jacksonville Riverwalk\, 1515 Prudential Drive\, Jacksonville\, 32207\, United States
CATEGORIES:Northeast
ATTACH;FMTTYPE=image/png:https://frla.devlara.com/wp-content/uploads/2025/04/Web-Northeast-May-25-Hospitality-Outlook-1100-x-340-px.png
ORGANIZER;CN="Nicole Chapman":MAILTO:nchapman@frla.devlara.com
END:VEVENT
END:VCALENDAR