BEGIN:VCALENDAR
VERSION:2.0
PRODID:-//FRLA - ECPv6.15.20//NONSGML v1.0//EN
CALSCALE:GREGORIAN
METHOD:PUBLISH
X-ORIGINAL-URL:https://frla.devlara.com
X-WR-CALDESC:Events for FRLA
REFRESH-INTERVAL;VALUE=DURATION:PT1H
X-Robots-Tag:noindex
X-PUBLISHED-TTL:PT1H
BEGIN:VTIMEZONE
TZID:America/New_York
BEGIN:DAYLIGHT
TZOFFSETFROM:-0500
TZOFFSETTO:-0400
TZNAME:EDT
DTSTART:20250309T070000
END:DAYLIGHT
BEGIN:STANDARD
TZOFFSETFROM:-0400
TZOFFSETTO:-0500
TZNAME:EST
DTSTART:20251102T060000
END:STANDARD
BEGIN:DAYLIGHT
TZOFFSETFROM:-0500
TZOFFSETTO:-0400
TZNAME:EDT
DTSTART:20260308T070000
END:DAYLIGHT
BEGIN:STANDARD
TZOFFSETFROM:-0400
TZOFFSETTO:-0500
TZNAME:EST
DTSTART:20261101T060000
END:STANDARD
BEGIN:DAYLIGHT
TZOFFSETFROM:-0500
TZOFFSETTO:-0400
TZNAME:EDT
DTSTART:20270314T070000
END:DAYLIGHT
BEGIN:STANDARD
TZOFFSETFROM:-0400
TZOFFSETTO:-0500
TZNAME:EST
DTSTART:20271107T060000
END:STANDARD
END:VTIMEZONE
BEGIN:VEVENT
DTSTART;TZID=America/New_York:20260423T170000
DTEND;TZID=America/New_York:20260423T190000
DTSTAMP:20260420T102747
CREATED:20260312T141623Z
LAST-MODIFIED:20260312T141623Z
UID:10004623-1776963600-1776970800@frla.devlara.com
SUMMARY:Treasure Coast - April Hospitality Networking Event
DESCRIPTION:Happy Hour & Hors d’oeuvres!\nThe FRLA Treasure Coast invites you to our April Hospitality Networking Event at American Icon Brewery on April 23rd! Grab a brew and make a friend or two – this is your chance to meet local professionals\, share ideas\, and grow your network in a laid-back atmosphere. Don’t miss out on the fun and opportunities — see you there! \nReady to mix\, mingle\, and make lasting connections with local industry professionals? Register Today! \nEvent Details:  \nThursday\, April 23rd\, 2026\n5:00-7:00 PM\nAmerican Icon Brewery\n1133 19th Place\nVero Beach\, FL 32960 \nMembers: $25\nFuture Members: $40 \nPlease Bring Your Business Card for Two Free Drinks (Beer/Wine) & Hors d’oeuvres. \nAdvanced registration required! \nClick Here to Register\nRegistration Deadline: April 17\, 2026 \n  \nSponsored By: \n \n 
URL:https://frla.devlara.com/event/treasure-coast-april-hospitality-networking-event/
LOCATION:American Icon Brewery and Taproom\, 1133 19th Pl\, Vero Beach\, FL\, 32960\, United States
CATEGORIES:Treasure Coast
ATTACH;FMTTYPE=image/png:https://frla.devlara.com/wp-content/uploads/2026/03/Web-TC-April26-Mixer.png
ORGANIZER;CN="Jodi Cross":MAILTO:jcross@frla.devlara.com
END:VEVENT
BEGIN:VEVENT
DTSTART;TZID=America/New_York:20260514T170000
DTEND;TZID=America/New_York:20260514T190000
DTSTAMP:20260420T102747
CREATED:20260309T185149Z
LAST-MODIFIED:20260309T185942Z
UID:10004621-1778778000-1778785200@frla.devlara.com
SUMMARY:Palm Beach - Networking Hospitality Social for a Cause
DESCRIPTION:Join the FRLA Palm Beach Chapter for a special evening of networking for a cause! Experience the powerful work Els for Autism is doing and how the hospitality industry can benefit. Expand your network and make connections with top industry leaders from the hospitality community. Please Bring Your Business Card for Two Free Drinks & Hors d’oeuvres. There will be raffle prizes! \nEvent Details:\nThursday\, May 14\, 2026\n5:00-7:00 p.m.\nEls for Autism\n18370 Limestone Creek Road\nJupiter\, FL 22458 \nFRLA Members: $25/Future Members $35/Future Members \n  \nClick Here to Register!\nAdvanced Registration is required! Registration deadline\, Friday\, May 8\, 2026 \nFor questions call Jodi Cross\, 561-410-0035 or jcross@frla.devlara.com \n  \nSponsored by:
URL:https://frla.devlara.com/event/palm-beach-networking-hospitality-social-for-a-cause/
LOCATION:Els for Autism Foundation\, 18370 Limestone Creek Road\, Jupiter\, FL\, 33458\, United States
CATEGORIES:Palm Beach
ATTACH;FMTTYPE=image/png:https://frla.devlara.com/wp-content/uploads/2026/03/Web-Palm-Beach-Social-May-2026.png
ORGANIZER;CN="Jodi Cross":MAILTO:jcross@frla.devlara.com
END:VEVENT
BEGIN:VEVENT
DTSTART;TZID=America/New_York:20260604T170000
DTEND;TZID=America/New_York:20260604T190000
DTSTAMP:20260420T102747
CREATED:20260325T210431Z
LAST-MODIFIED:20260327T191833Z
UID:10004633-1780592400-1780599600@frla.devlara.com
SUMMARY:Treasure Coast - Hospitality Tradeshow & Networking Mixer
DESCRIPTION:Hospitality Tradeshow & Networking Mixer\nMaximize Your Brand Visibility! \nView Flyer\nJoin the FRLA Treasure Coast Chapter on June 4th for the Hospitality Tradeshow and Networking Mixer! Purchase a tabletop to showcase sample products\, connect with members\, and display signage. (Limited number of tables available)  \nEnjoy Happy Hour and a buffet at Conchy Joe’s Seafood. You don’t want to miss this unique opportunity to expand your network and grow your brand’s exposure! Register today as space is limited!  \nEvent Tickets (attendance only): \nMembers: $35 \nFuture Members $45 \nPartners will have an opportunity to present products! \nTabletop Display: \n$200  \nCall Jodi Cross at (561) 410 – 0035 \n  \nRegister Now\nAdvanced registration required! Deadline: May 29\, 2026 \n \n  \n  \n  \n  \n  \n  \n  \n  \n  \nSponsored by: \n\n 
URL:https://frla.devlara.com/event/treasure-coast-hospitality-tradeshow-networking-mixer/
LOCATION:Conchy Joe’s Seafood\, 3945 NE Indian River Drive\, Jensen Beach\, 34957\, United States
CATEGORIES:Treasure Coast
ATTACH;FMTTYPE=image/png:https://frla.devlara.com/wp-content/uploads/2026/03/Web-TC-June26-Event-1.png
ORGANIZER;CN="Jodi Cross":MAILTO:jcross@frla.devlara.com
END:VEVENT
BEGIN:VEVENT
DTSTART;TZID=America/New_York:20260611T170000
DTEND;TZID=America/New_York:20260611T190000
DTSTAMP:20260420T102747
CREATED:20260304T212329Z
LAST-MODIFIED:20260305T155509Z
UID:10004617-1781197200-1781204400@frla.devlara.com
SUMMARY:Palm Beach - Hospitality Networking Social
DESCRIPTION:Join FRLA Palm Beach for happy hour & Hors d’oeuvres at our June Hospitality Networking Social! Enjoy a fun and relaxed evening\, meet amazing people in the industry\, exchange ideas\, and build connections—all in person. Whether you’re new or a pro\, come hang out\, share stories\, and grow your network over some great conversation. Don’t miss out on making new friends and opportunities! \nThere will be raffle prizes!  Bring your business card for two free drinks and hors d’oeuvres! \nView Event Flyer\nEvent Details:  \nThursday\, June 11\, 2026\n5:00-7:00 p.m.\nVoodoo Bayou | 11701 Lake Victoria Gardens Ave. Palm Beach Gardens\, FL 33410 \nEvent Pricing: \nFRLA Members: $25\nFuture Members: $35 \nAdvanced Registration is required! Registration deadline: Friday\, June 5\, 2026 \n  \nRegister Now! \n  \nSponsored by:  \n \n  \n  \n  \n  \n  \n  \n  \n  \nFor questions call Jodi Cross\, 561-410-0035 or jcross@frla.devlara.com
URL:https://frla.devlara.com/event/palm-beach-hospitality-networking-social-4/
LOCATION:Voodoo Bayou\, 11701 Lake Victoria Gardens Ave.\, Suite 5095\, Palm Beach Gardens\, FL\, 33410\, United States
CATEGORIES:Palm Beach
ATTACH;FMTTYPE=image/png:https://frla.devlara.com/wp-content/uploads/2026/03/Copy-of-FB-Palm-Beach-Social-1100-x-340-px-2.png
ORGANIZER;CN="Jodi Cross":MAILTO:jcross@frla.devlara.com
END:VEVENT
BEGIN:VEVENT
DTSTART;TZID=America/New_York:20261008T080000
DTEND;TZID=America/New_York:20261008T130000
DTSTAMP:20260420T102747
CREATED:20260317T164245Z
LAST-MODIFIED:20260317T164245Z
UID:10004630-1791446400-1791464400@frla.devlara.com
SUMMARY:Palm Beach - 8th Annual David A. Burke Golf Invitational
DESCRIPTION:ENJOY A DAY OF GOLF IN SUPPORT OF\nFLORIDA’S HOSPITALITY INDUSTRY\nJoin the Palm Beach Chapter of the Florida Restaurant and Lodging Association for the 8th Annual David A. Burke Golf Invitational on October 8th at Breakers West Country Club. This event sells out every year! Registration and sponsorships are open!   \nOctober 8\, 2026\nBreakers West Country Club\n1550 Flagler Parkway\, West Palm Beach\, FL 33411 \nRegistration & Breakfast 8 AM | Shotgun 9 AM\nTournament sells out every year – Space is limited. \n  \nSPONSORSHIP OPPORTUNITIES: \nTitle Sponsor $5\,000 | Two Foursomes/4-Hole Signs\nGold Sponsor $2\,500 | Two Foursomes/2-Hole Signs\nSilver Sponsor $1\,950 | One Foursome/1-Hole Sign\nBronze Sponsor $1\,750 | One Foursome/Logo on Banner Signage\nTeam of Four $1\,500 | Team of Four\nTee/Hole Sponsor $800 | Tee Sign Sponsor\nIndividual Player $400 | One Player \n  \nRegistration & Sponsor Form\nSponsorships are due by August 15th for inclusion on tournament signage. \nFor additional information contact Jodi Cross at jcross@frla.devlara.com or (561) 410-0035.
URL:https://frla.devlara.com/event/palm-beach-8th-annual-david-a-burke-golf-invitational/
LOCATION:Breakers West\, 937 Dickens Place\, West Palm Beach\, FL\, 33411\, United States
CATEGORIES:Palm Beach
ATTACH;FMTTYPE=image/png:https://frla.devlara.com/wp-content/uploads/2026/03/Web-Palm-Beach-2026-Golf-Invitational.png
ORGANIZER;CN="Jodi Cross":MAILTO:jcross@frla.devlara.com
END:VEVENT
END:VCALENDAR