BEGIN:VCALENDAR
VERSION:2.0
PRODID:-//FRLA - ECPv6.15.20//NONSGML v1.0//EN
CALSCALE:GREGORIAN
METHOD:PUBLISH
X-ORIGINAL-URL:https://frla.devlara.com
X-WR-CALDESC:Events for FRLA
REFRESH-INTERVAL;VALUE=DURATION:PT1H
X-Robots-Tag:noindex
X-PUBLISHED-TTL:PT1H
BEGIN:VTIMEZONE
TZID:America/New_York
BEGIN:DAYLIGHT
TZOFFSETFROM:-0500
TZOFFSETTO:-0400
TZNAME:EDT
DTSTART:20250309T070000
END:DAYLIGHT
BEGIN:STANDARD
TZOFFSETFROM:-0400
TZOFFSETTO:-0500
TZNAME:EST
DTSTART:20251102T060000
END:STANDARD
BEGIN:DAYLIGHT
TZOFFSETFROM:-0500
TZOFFSETTO:-0400
TZNAME:EDT
DTSTART:20260308T070000
END:DAYLIGHT
BEGIN:STANDARD
TZOFFSETFROM:-0400
TZOFFSETTO:-0500
TZNAME:EST
DTSTART:20261101T060000
END:STANDARD
BEGIN:DAYLIGHT
TZOFFSETFROM:-0500
TZOFFSETTO:-0400
TZNAME:EDT
DTSTART:20270314T070000
END:DAYLIGHT
BEGIN:STANDARD
TZOFFSETFROM:-0400
TZOFFSETTO:-0500
TZNAME:EST
DTSTART:20271107T060000
END:STANDARD
END:VTIMEZONE
BEGIN:VEVENT
DTSTART;VALUE=DATE:20260428
DTEND;VALUE=DATE:20260429
DTSTAMP:20260420T101345
CREATED:20260302T205336Z
LAST-MODIFIED:20260302T205336Z
UID:10004613-1777334400-1777420799@frla.devlara.com
SUMMARY:Suncoast - Annual Bowling Tournament
DESCRIPTION:Save the Date! Join the FRLA Suncoast Chapter on April 28th at Bowlero Gulf Gate for the annual bowling tournament! 
URL:https://frla.devlara.com/event/suncoast-annual-bowling-tournament/
LOCATION:Bowlero Gulf Gate\, 7221 S. Tamiami Trail\, Sarasota\, FL\, United States
CATEGORIES:Suncoast
ATTACH;FMTTYPE=image/png:https://frla.devlara.com/wp-content/uploads/2026/03/Web-2026-Suncoast-Inaugural-Bowling-Tournament-1.png
ORGANIZER;CN="Dannette Lynch":MAILTO:dannette@frla.devlara.com
END:VEVENT
BEGIN:VEVENT
DTSTART;TZID=America/New_York:20260502T170000
DTEND;TZID=America/New_York:20260502T220000
DTSTAMP:20260420T101345
CREATED:20260409T142625Z
LAST-MODIFIED:20260409T142730Z
UID:10004637-1777741200-1777759200@frla.devlara.com
SUMMARY:Suncoast - 2nd Annual Taste & Toast
DESCRIPTION:Join us for the 2nd Annual Taste & Toast Gulf Coast — a flavorful celebration of food\, drink\, and hospitality that benefits our FRLA Suncoast Chapter Education Initiatives! \nSaturday\, May 2\, 2026\nPalmetto Marriott Resort & Spa\n5:00 PM – VIP; 6:00 PM General Admission \n  \nEnjoy an unforgettable day of premier food & drink: \n•  Tastings from top chefs & local eateries\n•  20+ wines\, brews\, cocktails & mocktails\n• Kentucky Derby bourbon tasting and live watch party \n•  Live entertainment\, culinary & beverage awards\, and exciting demos! \nCommunity and professional judging! \nEvent Pricing:\n$95 General Admission\n$150 VIP \n$1\,000 Table of 8 \nRegister Now! \n 
URL:https://frla.devlara.com/event/suncoast-2nd-annual-taste-toast/
LOCATION:Palmetto Marriott Resort & Spa\, 600 US-41\, Palmetto\, 34221\, United States
CATEGORIES:Suncoast
ATTACH;FMTTYPE=image/png:https://frla.devlara.com/wp-content/uploads/2026/04/Web-Suncoast-Taste-and-Toast-2026-1.png
ORGANIZER;CN="Dannette Lynch":MAILTO:dannette@frla.devlara.com
END:VEVENT
BEGIN:VEVENT
DTSTART;VALUE=DATE:20260506
DTEND;VALUE=DATE:20260507
DTSTAMP:20260420T101345
CREATED:20260302T193915Z
LAST-MODIFIED:20260417T221823Z
UID:10004612-1778025600-1778111999@frla.devlara.com
SUMMARY:Pinellas & Hillsborough - 3rd Annual Reverse Hotel & Restaurant Showcase
DESCRIPTION:Save the Date! Join the FRLA Pinellas and Hillsborough Chapter on May 6th for the 3rd Annual Reverse Hotel & Restaurant Showcase!
URL:https://frla.devlara.com/event/pinellas-hillsborough-3rd-annual-reverse-hotel-restaurant-showcase/
LOCATION:Marriott St. Petersburg Clearwater\, 12600 Roosevelt Blvd\, St. Petersburg\, FL\, 33716\, United States
CATEGORIES:Hillsborough,Pinellas
ATTACH;FMTTYPE=image/png:https://frla.devlara.com/wp-content/uploads/2026/03/Web-2026HillsboroughPinellas-Reverse-Showcase-2.png
ORGANIZER;CN="Dannette Lynch":MAILTO:dannette@frla.devlara.com
END:VEVENT
BEGIN:VEVENT
DTSTART;VALUE=DATE:20260519
DTEND;VALUE=DATE:20260520
DTSTAMP:20260420T101345
CREATED:20260312T185600Z
LAST-MODIFIED:20260312T185600Z
UID:10004625-1779148800-1779235199@frla.devlara.com
SUMMARY:Space Coast - Annual Bowling Tournament
DESCRIPTION:Save the Date!\nJoin the FRLA Space Coast Chapter for the annual Bowling Tournament at Bowlero Melbourne on May 19\, 2026.\nMore details to come!
URL:https://frla.devlara.com/event/space-coast-annual-bowling-tournament/
LOCATION:Bowlero Melbourne\, 1099 N Wickham Road\, Melbourn\, 32935\, United States
CATEGORIES:Space Coast
ATTACH;FMTTYPE=image/png:https://frla.devlara.com/wp-content/uploads/2026/03/Web-2026-Space-Coast-Annual-Bowling-.png
ORGANIZER;CN="Dannette Lynch":MAILTO:dannette@frla.devlara.com
END:VEVENT
BEGIN:VEVENT
DTSTART;TZID=America/New_York:20260521T143000
DTEND;TZID=America/New_York:20260521T170000
DTSTAMP:20260420T101345
CREATED:20260302T211912Z
LAST-MODIFIED:20260415T173141Z
UID:10004614-1779373800-1779382800@frla.devlara.com
SUMMARY:Pinellas - Annual Bowling Tournament
DESCRIPTION:Get ready to roll into an unforgettable afternoon because one of our most popular events is back and better than ever! Join the FRLA’s Pinellas Chapter for the 5th Annual Bowling Tournament\, where the fun is “Strikingly” good! This is the perfect opportunity for team building while mingling with industry peers and colleagues. Indulge with good food\, refreshing beverages and get your hands on some fabulous raffle prizes. Let’s celebrate the industry and and strike up some fun because there’s absolutely no time to “SPARE”! \nEvent Details:\nThursday\, May 21\, 2026\n2:30 PM – Team Check in\n3:00 – 5:00 PM – Tournament Play\nLiberty Lanes\, 114014 Starkey Road Largo\, FL \nTournament Cost:\nTeam of Five: $180\nSingle Bowler: $55\nSpectator: $25 \nRegistration Includes:  \n\nBowling registration includes shoe rental\, ball\, two games\,\nunlimited soda and a large pizza for each team\nOne domestic beer per player\nAwards- 1st and 2nd Place\, Team Spirit and Best Team Attire\nRaffles throughout the afternoon\n\nRegister Now! \nDeadline: May 18\, 2026 \n  \nSponsorship Opportunities: \nEvent & Tournament T-Shirt Sponsor: $750\nOpening welcome at event\, prominent logo on tournament t- shirt\, display signage with corporate logo\, plus five tournament bowlers. \nLane Sponsor: $350\nLED display signage at sponsored lane\, corporate logo on tournament t-shirt\, plus one team of five tournament bowlers. \nRAFFLE ITEM DONATIONS ARE APPRECIATED!
URL:https://frla.devlara.com/event/pinellas-annual-bowling-tournament/
LOCATION:Liberty Lanes\, 11401 Starkey Road\, Largo\, FL\, 33773\, United States
CATEGORIES:Pinellas
ATTACH;FMTTYPE=image/png:https://frla.devlara.com/wp-content/uploads/2026/03/web-Pinellas-2026-Bowling-1.png
ORGANIZER;CN="Dannette Lynch":MAILTO:dannette@frla.devlara.com
END:VEVENT
BEGIN:VEVENT
DTSTART;VALUE=DATE:20260603
DTEND;VALUE=DATE:20260604
DTSTAMP:20260420T101345
CREATED:20260317T160648Z
LAST-MODIFIED:20260317T160648Z
UID:10004629-1780444800-1780531199@frla.devlara.com
SUMMARY:Hillsborough - A Conversation & Luncheon with Santiago Corrada
DESCRIPTION:Save the Date!\nA Conversation & Luncheon with Visit Tampa Bay CEO\, Santiago Corrada\nJune 3\, 2026\n  \nMore details coming soon!
URL:https://frla.devlara.com/event/hillsborough-a-conversation-luncheon-with-santiago-corrada/
CATEGORIES:Hillsborough
ATTACH;FMTTYPE=image/png:https://frla.devlara.com/wp-content/uploads/2026/03/Web-Hillsborough-TB-Luncheon-2026.png
ORGANIZER;CN="Dannette Lynch":MAILTO:dannette@frla.devlara.com
END:VEVENT
BEGIN:VEVENT
DTSTART;VALUE=DATE:20260609
DTEND;VALUE=DATE:20260610
DTSTAMP:20260420T101345
CREATED:20260312T210643Z
LAST-MODIFIED:20260312T210643Z
UID:10004626-1780963200-1781049599@frla.devlara.com
SUMMARY:Suncoast - 2nd Annual Reverse Hotel & Restaurant Showcase
DESCRIPTION:Save the Date! \n2nd Annual Reverse Hotel & Restaurant Showcase\nTurning the Tables on Networking\nJune 9\, 2026\nCarlisle Inn
URL:https://frla.devlara.com/event/suncoast-2nd-annual-reverse-hotel-restaurant-showcase/
LOCATION:Carlisle Inn\, 3727 Bahia Vista Street\, Sarasota\, 34232\, United States
CATEGORIES:Suncoast
ATTACH;FMTTYPE=image/png:https://frla.devlara.com/wp-content/uploads/2026/03/Web-Suncoast-2nd-Annual-Reverse-Showcase.png
ORGANIZER;CN="Dannette Lynch":MAILTO:dannette@frla.devlara.com
END:VEVENT
BEGIN:VEVENT
DTSTART;TZID=America/New_York:20260622T083000
DTEND;TZID=America/New_York:20260622T223000
DTSTAMP:20260420T101345
CREATED:20260417T174106Z
LAST-MODIFIED:20260417T174207Z
UID:10004639-1782117000-1782167400@frla.devlara.com
SUMMARY:Pinellas/Hillsborough - Hospitality Forward: Solving Hospitality's Generational Puzzle
DESCRIPTION:More Details Coming Soon!! \n 
URL:https://frla.devlara.com/event/pinellas-hillsborough-hospitality-forward-solving-hospitalitys-generational-puzzle/
CATEGORIES:Hillsborough,Pinellas
ATTACH;FMTTYPE=image/png:https://frla.devlara.com/wp-content/uploads/2026/04/Web-Hosp.-Fwd-June-2026-1.png
ORGANIZER;CN="Dannette Lynch":MAILTO:dannette@frla.devlara.com
END:VEVENT
BEGIN:VEVENT
DTSTART;VALUE=DATE:20260810
DTEND;VALUE=DATE:20260811
DTSTAMP:20260420T101345
CREATED:20260318T141226Z
LAST-MODIFIED:20260318T141226Z
UID:10004631-1786320000-1786406399@frla.devlara.com
SUMMARY:Pinellas - 27th Annual Hospitality Golf Classic
DESCRIPTION:Save the Date!\nThe 27th Annual FRLA Pinellas Hospitality Golf Classic\nAugust 10\, 2026\nThe Vinoy Resort and Golf Club\n  \nMore details to follow!
URL:https://frla.devlara.com/event/pinellas-27th-annual-hospitality-golf-classic/
LOCATION:The Vinoy Golf Club\, 600 Snell Isle Boulevard\, St. Petersburg\, FL\, United States
CATEGORIES:Pinellas
ATTACH;FMTTYPE=image/png:https://frla.devlara.com/wp-content/uploads/2026/03/Web-Pinellas-2026-Golf.png
ORGANIZER;CN="Dannette Lynch":MAILTO:dannette@frla.devlara.com
END:VEVENT
BEGIN:VEVENT
DTSTART;VALUE=DATE:20260827
DTEND;VALUE=DATE:20260828
DTSTAMP:20260420T101345
CREATED:20260212T170335Z
LAST-MODIFIED:20260212T170335Z
UID:10004604-1787788800-1787875199@frla.devlara.com
SUMMARY:Suncoast 4th Annual ROSE Awards
DESCRIPTION:SAVE THE DATE\nThe 4th Annual Suncoast ROSE Awards\nAugust 27\, 2026\nThe Ritz-Carlton Sarasota\n  \n  \nThe 4th Annual Suncoast ROSE (Recognition of Service Excellence) Awards will celebrate the remarkable efforts of frontline hospitality professionals who consistently exceed expectations in delivering exceptional service. These individuals truly epitomize the unwavering commitment of the county to curate unforgettable experiences for each and every visitor. We cordially invite you to be a part of this prestigious event as we pay tribute to these outstanding champions who are shaping the landscape of hospitality with their dedication and passion.  \nFor sponsorship or additional information\, please contact FRLA Regional Director Dannette Lynch \n727-642-3404 or dannette@frla.devlara.com
URL:https://frla.devlara.com/event/suncoast-4th-annual-rose-awards/
LOCATION:The Ritz-Carlton\, Sarasota\, 1111 Ritz Carlton Dr\, Sarasota\, FL\, 34236
CATEGORIES:Suncoast
ATTACH;FMTTYPE=image/png:https://frla.devlara.com/wp-content/uploads/2026/02/Web-Suncoast-ROSE-Awards-2026.png
ORGANIZER;CN="Dannette Lynch":MAILTO:dannette@frla.devlara.com
END:VEVENT
BEGIN:VEVENT
DTSTART;TZID=America/New_York:20260903T173000
DTEND;TZID=America/New_York:20260903T203000
DTSTAMP:20260420T101345
CREATED:20260204T183233Z
LAST-MODIFIED:20260204T183233Z
UID:10004602-1788456600-1788467400@frla.devlara.com
SUMMARY:FRLA Pinellas ROSE Awards - SAVE THE DATE
DESCRIPTION:SAVE THE DATE\nThe 7th Annual Pinellas ROSE Awards\nSeptember 3\, 2026\nSandpearl Resort Clearwater Beach\n  \n  \nThe7th Annual Pinellas ROSE (Recognition of Service Excellence) Awards will celebrate the remarkable efforts of frontline hospitality professionals who consistently exceed expectations in delivering exceptional service. These individuals truly epitomize the unwavering commitment of the county to curate unforgettable experiences for each and every visitor. We cordially invite you to be a part of this prestigious event as we pay tribute to these outstanding champions who are shaping the landscape of hospitality with their dedication and passion.  \nFor sponsorship or additional information\, please contact FRLA Regional Director Dannette Lynch \n727-642-3404 or dannette@frla.devlara.com \n  \n 
URL:https://frla.devlara.com/event/frla-pinellas-rose-awards-save-the-date/
LOCATION:Sandpearl Resort\, 500 Mandaly Ave\, Clearwater Beach\, FL\, 33767
CATEGORIES:Pinellas
ATTACH;FMTTYPE=image/png:https://frla.devlara.com/wp-content/uploads/2026/02/Web-2026-Pinellas-Rose-Awards-Save-the-Date.png
ORGANIZER;CN="Dannette Lynch":MAILTO:dannette@frla.devlara.com
GEO:27.9829289;-82.8275354
X-APPLE-STRUCTURED-LOCATION;VALUE=URI;X-ADDRESS=Sandpearl Resort 500 Mandaly Ave Clearwater Beach FL 33767;X-APPLE-RADIUS=500;X-TITLE=500 Mandaly Ave:geo:-82.8275354,27.9829289
END:VEVENT
BEGIN:VEVENT
DTSTART;VALUE=DATE:20260914
DTEND;VALUE=DATE:20260915
DTSTAMP:20260420T101345
CREATED:20260305T153922Z
LAST-MODIFIED:20260305T153922Z
UID:10004618-1789344000-1789430399@frla.devlara.com
SUMMARY:Hillsborough 9th Annual Sporting Clay Tournament
DESCRIPTION:Save the Date! The Hillsborough Chapter will host the 9th Annual Sporting Clay Tournament on September 14\, 2026\, at Tampa Bay Sporting Clays.
URL:https://frla.devlara.com/event/hillsborough-9th-annual-sporting-clay-tournament/
LOCATION:Tampa Bay Sporting Clays\, 10514 Ehren Cutoff\, Land O Lakes\, FL\, 34639\, United States
CATEGORIES:Hillsborough
ATTACH;FMTTYPE=image/png:https://frla.devlara.com/wp-content/uploads/2026/03/Web-2026-Hillsborough-Clay-Shoot.png
ORGANIZER;CN="Dannette Lynch":MAILTO:dannette@frla.devlara.com
END:VEVENT
BEGIN:VEVENT
DTSTART;VALUE=DATE:20260916
DTEND;VALUE=DATE:20260917
DTSTAMP:20260420T101345
CREATED:20260403T193432Z
LAST-MODIFIED:20260403T193432Z
UID:10004635-1789516800-1789603199@frla.devlara.com
SUMMARY:Space Coast - 6th Annual ROSE Awards
DESCRIPTION:Save the Date! \n6th Annual Space Coast ROSE Awards\nSeptember 16\, 2026\nCourtyard by Marriott Cocoa Beach\n  \nMore info coming soon!
URL:https://frla.devlara.com/event/space-coast-6th-annual-rose-awards/
LOCATION:Courtyard by Marriott Cocoa Beach\, 3435 Atlantic Ave\, Cocoa Beach\, FL\, 32931\, United States
CATEGORIES:Space Coast
ATTACH;FMTTYPE=image/png:https://frla.devlara.com/wp-content/uploads/2026/04/Web-2026-Space-Coast-Rose-Awards.png
ORGANIZER;CN="Dannette Lynch":MAILTO:dannette@frla.devlara.com
GEO:28.3504521;-80.6074096
X-APPLE-STRUCTURED-LOCATION;VALUE=URI;X-ADDRESS=Courtyard by Marriott Cocoa Beach 3435 Atlantic Ave Cocoa Beach FL 32931 United States;X-APPLE-RADIUS=500;X-TITLE=3435 Atlantic Ave:geo:-80.6074096,28.3504521
END:VEVENT
BEGIN:VEVENT
DTSTART;VALUE=DATE:20260921
DTEND;VALUE=DATE:20260922
DTSTAMP:20260420T101345
CREATED:20260303T190440Z
LAST-MODIFIED:20260303T190440Z
UID:10004615-1789948800-1790035199@frla.devlara.com
SUMMARY:Suncoast - Annual Pull for Hospitality
DESCRIPTION:Save the date!! The FRLA Suncoast Chapter will host the annual Pull for Hospitality sporting clay tournament on September 21st at Knight’s Trail Range.  \n  \nFor sponsorship and registration information\, contact Dannette Lynch at (727) 642-3404 or dannette@frla.devlara.com.
URL:https://frla.devlara.com/event/suncoast-annual-pull-for-hospitality/
LOCATION:Knight’s Trail Range\, 3435 Rustic Rd\, Nokomis\, 34275\, United States
CATEGORIES:Suncoast
ATTACH;FMTTYPE=image/png:https://frla.devlara.com/wp-content/uploads/2026/03/Web-2026-Suncoast-Clay-Shoot-1.png
ORGANIZER;CN="Dannette Lynch":MAILTO:dannette@frla.devlara.com
END:VEVENT
BEGIN:VEVENT
DTSTART;VALUE=DATE:20261008
DTEND;VALUE=DATE:20261009
DTSTAMP:20260420T101345
CREATED:20260209T185833Z
LAST-MODIFIED:20260209T190643Z
UID:10004603-1791417600-1791503999@frla.devlara.com
SUMMARY:Hillsborough 3rd Annual ROSE Awards
DESCRIPTION:SAVE THE DATE\nThe 3rd Annual Hillsborough ROSE Awards\nOctober 8\, 2026\nJW Marriott Tampa Water Street\n  \n  \nThe 3rd Annual Hillsborough ROSE (Recognition of Service Excellence) Awards will celebrate the remarkable efforts of frontline hospitality professionals who consistently exceed expectations in delivering exceptional service. These individuals truly epitomize the unwavering commitment of the county to curate unforgettable experiences for each and every visitor. We cordially invite you to be a part of this prestigious event as we pay tribute to these outstanding champions who are shaping the landscape of hospitality with their dedication and passion.  \nFor sponsorship or additional information\, please contact FRLA Regional Director Dannette Lynch \n727-642-3404 or dannette@frla.devlara.com
URL:https://frla.devlara.com/event/hillsborough-3rd-annual-rose-awards/
LOCATION:JW Marriott Tampa Water Street\, 510 Water St\, Tampa\, 33602\, United States
CATEGORIES:Hillsborough
ATTACH;FMTTYPE=image/png:https://frla.devlara.com/wp-content/uploads/2026/02/Web-Hillsborough-ROSE-Awards-2026-1.png
ORGANIZER;CN="Dannette Lynch":MAILTO:dannette@frla.devlara.com
END:VEVENT
END:VCALENDAR