BEGIN:VCALENDAR
VERSION:2.0
PRODID:-//FRLA - ECPv6.15.20//NONSGML v1.0//EN
CALSCALE:GREGORIAN
METHOD:PUBLISH
X-WR-CALNAME:FRLA
X-ORIGINAL-URL:https://frla.devlara.com
X-WR-CALDESC:Events for FRLA
REFRESH-INTERVAL;VALUE=DURATION:PT1H
X-Robots-Tag:noindex
X-PUBLISHED-TTL:PT1H
BEGIN:VTIMEZONE
TZID:America/New_York
BEGIN:DAYLIGHT
TZOFFSETFROM:-0500
TZOFFSETTO:-0400
TZNAME:EDT
DTSTART:20250309T070000
END:DAYLIGHT
BEGIN:STANDARD
TZOFFSETFROM:-0400
TZOFFSETTO:-0500
TZNAME:EST
DTSTART:20251102T060000
END:STANDARD
BEGIN:DAYLIGHT
TZOFFSETFROM:-0500
TZOFFSETTO:-0400
TZNAME:EDT
DTSTART:20260308T070000
END:DAYLIGHT
BEGIN:STANDARD
TZOFFSETFROM:-0400
TZOFFSETTO:-0500
TZNAME:EST
DTSTART:20261101T060000
END:STANDARD
BEGIN:DAYLIGHT
TZOFFSETFROM:-0500
TZOFFSETTO:-0400
TZNAME:EDT
DTSTART:20270314T070000
END:DAYLIGHT
BEGIN:STANDARD
TZOFFSETFROM:-0400
TZOFFSETTO:-0500
TZNAME:EST
DTSTART:20271107T060000
END:STANDARD
END:VTIMEZONE
BEGIN:VEVENT
DTSTART;TZID=America/New_York:20260502T170000
DTEND;TZID=America/New_York:20260502T220000
DTSTAMP:20260420T101324
CREATED:20260409T142625Z
LAST-MODIFIED:20260409T142730Z
UID:10004637-1777741200-1777759200@frla.devlara.com
SUMMARY:Suncoast - 2nd Annual Taste & Toast
DESCRIPTION:Join us for the 2nd Annual Taste & Toast Gulf Coast — a flavorful celebration of food\, drink\, and hospitality that benefits our FRLA Suncoast Chapter Education Initiatives! \nSaturday\, May 2\, 2026\nPalmetto Marriott Resort & Spa\n5:00 PM – VIP; 6:00 PM General Admission \n  \nEnjoy an unforgettable day of premier food & drink: \n•  Tastings from top chefs & local eateries\n•  20+ wines\, brews\, cocktails & mocktails\n• Kentucky Derby bourbon tasting and live watch party \n•  Live entertainment\, culinary & beverage awards\, and exciting demos! \nCommunity and professional judging! \nEvent Pricing:\n$95 General Admission\n$150 VIP \n$1\,000 Table of 8 \nRegister Now! \n 
URL:https://frla.devlara.com/event/suncoast-2nd-annual-taste-toast/
LOCATION:Palmetto Marriott Resort & Spa\, 600 US-41\, Palmetto\, 34221\, United States
CATEGORIES:Suncoast
ATTACH;FMTTYPE=image/png:https://frla.devlara.com/wp-content/uploads/2026/04/Web-Suncoast-Taste-and-Toast-2026-1.png
ORGANIZER;CN="Dannette Lynch":MAILTO:dannette@frla.devlara.com
END:VEVENT
BEGIN:VEVENT
DTSTART;TZID=America/New_York:20260504T080000
DTEND;TZID=America/New_York:20260504T103000
DTSTAMP:20260420T101324
CREATED:20260406T175424Z
LAST-MODIFIED:20260406T175424Z
UID:10004636-1777881600-1777890600@frla.devlara.com
SUMMARY:Volusia - Travel & Tourism Meeting
DESCRIPTION:Celebrate National Travel & Tourism Week with FRLA Volusia Chapter! \nTourism fuels Florida’s economy and drives our hospitality industry. Hear from regional tourism leaders about visitor trends\, marketing strategies\, and how your business can align with local campaigns to attract more guests in 2026. Learn how to connect with tourism agencies\, leverage resources\, and capitalize on the momentum to keep your hotels\, restaurants\, and attractions thriving. \nPanelists:\nCyrus Callum – Daytona Beach International Airport\nLori Campbell Baker – Daytona Beach Area Convention & Visitors Bureau\nLynn Flanders – Ocean Center\nGeorgia Turner – West Volusia Tourism Visitor Center\nDebbie Meihls – Visit NSB\nJanet Kersey – Daytona Beach Regional Chamber\nMatt Reinhart – Volusia County\nBrenna Dacks – Visit Florida \nEvent Details:\nMonday\, May 4\, 2026\nHard Rock Hotel Daytona Beach\n981 N Atlantic Avenue Daytona Beach\, FL 32118 \nEvent Schedule:\n8:00 AM – Breakfast\n9:00 AM – 10:30AM Program \nTickets:\nIndividual Tickets: $45\nTables: $350 \nRegister Now!\n  \n 
URL:https://frla.devlara.com/event/volusia-travel-tourism-meeting/
LOCATION:Hard Rock Hotel Daytona Beach\, 981 N Atlantic Avenue\, Daytona Beach\, 32118\, United States
CATEGORIES:Volusia Chapter
ATTACH;FMTTYPE=image/png:https://frla.devlara.com/wp-content/uploads/2026/04/Web-Volusia-NTTW-2026.png
ORGANIZER;CN="Destiny Neves":MAILTO:dneves@frla.devlara.com
END:VEVENT
BEGIN:VEVENT
DTSTART;TZID=America/New_York:20260504T083000
DTEND;TZID=America/New_York:20260504T100000
DTSTAMP:20260420T101324
CREATED:20260413T194633Z
LAST-MODIFIED:20260414T200526Z
UID:10004638-1777883400-1777888800@frla.devlara.com
SUMMARY:Broward - Excellence in Education Breakfast
DESCRIPTION:Join the FRLA Broward Chapter as we celebrate education in hospitality\, presenting student scholarships and teacher awards in support of Hospitality\, Tourism and Culinary programs. For over a decade\, our annual fundraisers and events have been instrumental in providing scholarships\, curriculum\, textbooks\, supplies and much more. This year we continue to offer our scholarship dollars to college and university levels of culinary and hospitality students. We believe this will accelerate aspiring graduates to step into the industry in Broward County. \nEvent Details:\nMonday\, May 4\, 2026\n8:30 – 10:00 AM\nRenaissance Fort Lauderdale West Hotel\n1230 S. Pine Island Road\, Plantation\, FL \nEvent Tickets:\nMembers: $55\nFuture Members: $75 \nRegister Now!\nSponsorships Are Available!\nElevate your brand visibility\, promote your business while supporting future industry leader or simply recruit students who strive to become future industry employees\, managers\, and owners. \nPresenting Sponsor: $5\,000\nScholarship Sponsor: $2\,000\nTeacher Award Sponsor: $1\,000\nBronze Sponsor: $500 \n  \n  \n \n  \n  \n \n 
URL:https://frla.devlara.com/event/broward-excellence-in-education-breakfast/
LOCATION:Renaissance Ft. Lauderdale West\, 1230 South Pine Island Road\, Plantation\, FL\, 33324\, United States
CATEGORIES:Broward
ATTACH;FMTTYPE=image/png:https://frla.devlara.com/wp-content/uploads/2026/04/Web-Broward-Excellence-in-Education-2026.png
ORGANIZER;CN="Rozeta Mahboubi":MAILTO:rmahboubi@frla.devlara.com
END:VEVENT
BEGIN:VEVENT
DTSTART;VALUE=DATE:20260506
DTEND;VALUE=DATE:20260507
DTSTAMP:20260420T101324
CREATED:20260302T193915Z
LAST-MODIFIED:20260417T221823Z
UID:10004612-1778025600-1778111999@frla.devlara.com
SUMMARY:Pinellas & Hillsborough - 3rd Annual Reverse Hotel & Restaurant Showcase
DESCRIPTION:Save the Date! Join the FRLA Pinellas and Hillsborough Chapter on May 6th for the 3rd Annual Reverse Hotel & Restaurant Showcase!
URL:https://frla.devlara.com/event/pinellas-hillsborough-3rd-annual-reverse-hotel-restaurant-showcase/
LOCATION:Marriott St. Petersburg Clearwater\, 12600 Roosevelt Blvd\, St. Petersburg\, FL\, 33716\, United States
CATEGORIES:Hillsborough,Pinellas
ATTACH;FMTTYPE=image/png:https://frla.devlara.com/wp-content/uploads/2026/03/Web-2026HillsboroughPinellas-Reverse-Showcase-2.png
ORGANIZER;CN="Dannette Lynch":MAILTO:dannette@frla.devlara.com
END:VEVENT
BEGIN:VEVENT
DTSTART;TZID=America/New_York:20260507T090000
DTEND;TZID=America/New_York:20260507T103000
DTSTAMP:20260420T101324
CREATED:20260312T180446Z
LAST-MODIFIED:20260414T194214Z
UID:10004624-1778144400-1778149800@frla.devlara.com
SUMMARY:Northeast Florida - 2026 Tourism Outlook
DESCRIPTION: 2026 Tourism Outlook: What’s Ahead for Northeast Florida Tourism \nTourism remains one of Florida’s most powerful economic drivers. Celebrate National Travel & Tourism Week with FRLA at the Northeast Florida Tourism Outlook Panel. Join us on May 7\, 2026\, and hear from regional tourism leaders on the economic outlook for travel\, visitor trends\, and the marketing strategies driving leisure\, business\, and group travel to Northeast Florida in 2026. Learn how visitors are choosing Northeast Florida and what your hospitality business can do to align with current campaigns and initiatives to attract more guests. The discussion will also highlight ways hospitality partners can connect with the local tourism agencies\, leverage valuable resources\, and capitalize on tourism momentum in the year ahead. \nEvent Details: \nThursday\, May 7\, 2026\n9:00 AM – 10:30 AM\nDelta Hotels by Marriott Jacksonville Deerwood\n4700 Salisbury Road\nJacksonville\, FL 32256   \nPanelists:\n• Paul Beirnes\, Amelia Island Convention & Visitors Bureau\n• Michael Corrigan\, Visit Jacksonville\n• Susan Phillips\, St. Augustine\, Ponte Vedra & The Beaches Visitors & Convention Bureau \nModerator:\nBrenna Dacks\, VISIT FLORIDA \n \n  \n  \n  \n  \n  \n  \n  \nFor Florida’s hospitality industry\, tourism is the lifeblood of our success. Staying ahead of travel trends and understanding where visitors are coming from is key to keeping our hotels\, restaurants\, and attractions thriving. Come gain valuable insight into the economic and tourism trends shaping our region in 2026 and learn how we can work together to keep Northeast Florida a top destination for visitors. RSVP Today!  \n  \nFREE to Register. Click Here to Sign Up!\n  \nSponsored by: \n \n  \n  \n 
URL:https://frla.devlara.com/event/northeast-florida-2026-tourism-outlook/
LOCATION:Delta Hotels by Marriott Jacksonville Deerwood\, 4700 Salisbury Road\, Jacksonville\, 32256\, United States
CATEGORIES:Northeast
ATTACH;FMTTYPE=image/png:https://frla.devlara.com/wp-content/uploads/2026/03/Web-Northeast-May-26-Tourism-Outlook-1.png
ORGANIZER;CN="Nicole Chapman":MAILTO:nchapman@frla.devlara.com
END:VEVENT
BEGIN:VEVENT
DTSTART;TZID=America/New_York:20260514T170000
DTEND;TZID=America/New_York:20260514T190000
DTSTAMP:20260420T101324
CREATED:20260309T185149Z
LAST-MODIFIED:20260309T185942Z
UID:10004621-1778778000-1778785200@frla.devlara.com
SUMMARY:Palm Beach - Networking Hospitality Social for a Cause
DESCRIPTION:Join the FRLA Palm Beach Chapter for a special evening of networking for a cause! Experience the powerful work Els for Autism is doing and how the hospitality industry can benefit. Expand your network and make connections with top industry leaders from the hospitality community. Please Bring Your Business Card for Two Free Drinks & Hors d’oeuvres. There will be raffle prizes! \nEvent Details:\nThursday\, May 14\, 2026\n5:00-7:00 p.m.\nEls for Autism\n18370 Limestone Creek Road\nJupiter\, FL 22458 \nFRLA Members: $25/Future Members $35/Future Members \n  \nClick Here to Register!\nAdvanced Registration is required! Registration deadline\, Friday\, May 8\, 2026 \nFor questions call Jodi Cross\, 561-410-0035 or jcross@frla.devlara.com \n  \nSponsored by:
URL:https://frla.devlara.com/event/palm-beach-networking-hospitality-social-for-a-cause/
LOCATION:Els for Autism Foundation\, 18370 Limestone Creek Road\, Jupiter\, FL\, 33458\, United States
CATEGORIES:Palm Beach
ATTACH;FMTTYPE=image/png:https://frla.devlara.com/wp-content/uploads/2026/03/Web-Palm-Beach-Social-May-2026.png
ORGANIZER;CN="Jodi Cross":MAILTO:jcross@frla.devlara.com
END:VEVENT
BEGIN:VEVENT
DTSTART;VALUE=DATE:20260519
DTEND;VALUE=DATE:20260520
DTSTAMP:20260420T101324
CREATED:20260312T185600Z
LAST-MODIFIED:20260312T185600Z
UID:10004625-1779148800-1779235199@frla.devlara.com
SUMMARY:Space Coast - Annual Bowling Tournament
DESCRIPTION:Save the Date!\nJoin the FRLA Space Coast Chapter for the annual Bowling Tournament at Bowlero Melbourne on May 19\, 2026.\nMore details to come!
URL:https://frla.devlara.com/event/space-coast-annual-bowling-tournament/
LOCATION:Bowlero Melbourne\, 1099 N Wickham Road\, Melbourn\, 32935\, United States
CATEGORIES:Space Coast
ATTACH;FMTTYPE=image/png:https://frla.devlara.com/wp-content/uploads/2026/03/Web-2026-Space-Coast-Annual-Bowling-.png
ORGANIZER;CN="Dannette Lynch":MAILTO:dannette@frla.devlara.com
END:VEVENT
BEGIN:VEVENT
DTSTART;TZID=America/New_York:20260521T143000
DTEND;TZID=America/New_York:20260521T170000
DTSTAMP:20260420T101324
CREATED:20260302T211912Z
LAST-MODIFIED:20260415T173141Z
UID:10004614-1779373800-1779382800@frla.devlara.com
SUMMARY:Pinellas - Annual Bowling Tournament
DESCRIPTION:Get ready to roll into an unforgettable afternoon because one of our most popular events is back and better than ever! Join the FRLA’s Pinellas Chapter for the 5th Annual Bowling Tournament\, where the fun is “Strikingly” good! This is the perfect opportunity for team building while mingling with industry peers and colleagues. Indulge with good food\, refreshing beverages and get your hands on some fabulous raffle prizes. Let’s celebrate the industry and and strike up some fun because there’s absolutely no time to “SPARE”! \nEvent Details:\nThursday\, May 21\, 2026\n2:30 PM – Team Check in\n3:00 – 5:00 PM – Tournament Play\nLiberty Lanes\, 114014 Starkey Road Largo\, FL \nTournament Cost:\nTeam of Five: $180\nSingle Bowler: $55\nSpectator: $25 \nRegistration Includes:  \n\nBowling registration includes shoe rental\, ball\, two games\,\nunlimited soda and a large pizza for each team\nOne domestic beer per player\nAwards- 1st and 2nd Place\, Team Spirit and Best Team Attire\nRaffles throughout the afternoon\n\nRegister Now! \nDeadline: May 18\, 2026 \n  \nSponsorship Opportunities: \nEvent & Tournament T-Shirt Sponsor: $750\nOpening welcome at event\, prominent logo on tournament t- shirt\, display signage with corporate logo\, plus five tournament bowlers. \nLane Sponsor: $350\nLED display signage at sponsored lane\, corporate logo on tournament t-shirt\, plus one team of five tournament bowlers. \nRAFFLE ITEM DONATIONS ARE APPRECIATED!
URL:https://frla.devlara.com/event/pinellas-annual-bowling-tournament/
LOCATION:Liberty Lanes\, 11401 Starkey Road\, Largo\, FL\, 33773\, United States
CATEGORIES:Pinellas
ATTACH;FMTTYPE=image/png:https://frla.devlara.com/wp-content/uploads/2026/03/web-Pinellas-2026-Bowling-1.png
ORGANIZER;CN="Dannette Lynch":MAILTO:dannette@frla.devlara.com
END:VEVENT
END:VCALENDAR