BEGIN:VCALENDAR
VERSION:2.0
PRODID:-//FRLA - ECPv6.15.20//NONSGML v1.0//EN
CALSCALE:GREGORIAN
METHOD:PUBLISH
X-WR-CALNAME:FRLA
X-ORIGINAL-URL:https://frla.devlara.com
X-WR-CALDESC:Events for FRLA
REFRESH-INTERVAL;VALUE=DURATION:PT1H
X-Robots-Tag:noindex
X-PUBLISHED-TTL:PT1H
BEGIN:VTIMEZONE
TZID:America/New_York
BEGIN:DAYLIGHT
TZOFFSETFROM:-0500
TZOFFSETTO:-0400
TZNAME:EDT
DTSTART:20250309T070000
END:DAYLIGHT
BEGIN:STANDARD
TZOFFSETFROM:-0400
TZOFFSETTO:-0500
TZNAME:EST
DTSTART:20251102T060000
END:STANDARD
BEGIN:DAYLIGHT
TZOFFSETFROM:-0500
TZOFFSETTO:-0400
TZNAME:EDT
DTSTART:20260308T070000
END:DAYLIGHT
BEGIN:STANDARD
TZOFFSETFROM:-0400
TZOFFSETTO:-0500
TZNAME:EST
DTSTART:20261101T060000
END:STANDARD
BEGIN:DAYLIGHT
TZOFFSETFROM:-0500
TZOFFSETTO:-0400
TZNAME:EDT
DTSTART:20270314T070000
END:DAYLIGHT
BEGIN:STANDARD
TZOFFSETFROM:-0400
TZOFFSETTO:-0500
TZNAME:EST
DTSTART:20271107T060000
END:STANDARD
END:VTIMEZONE
BEGIN:VEVENT
DTSTART;TZID=America/New_York:20260203T163000
DTEND;TZID=America/New_York:20260203T180000
DTSTAMP:20260420T120546
CREATED:20251210T221956Z
LAST-MODIFIED:20251210T224959Z
UID:10004592-1770136200-1770141600@frla.devlara.com
SUMMARY:Northeast - 2026 Board Installation & Mixer
DESCRIPTION:Kick off 2026 with the FRLA Northeast Chapter at our exciting mix-and-mingle event! \n  \nJoin us to kick off the new year and mix and mingle with our 2026 Board of Directors. We will highlight chapter updates for 2026 and enjoy a casual networking reception. The event will begin with the 2026 Board Installation ceremony. \nTo view the listing of the 2026 Board of Directors visit\, http://frla.devlara.com/chapters/northeast/ \nTuesday\, February 3\, 2026 \n4:30-6 p.m.\nChampion Brands\, 5571 Florida Mining Blvd S\, Jacksonville\, FL 32257 \n  \nEvent Cost: \nFRLA Members: $30\nFuture Members: $45 \nIncludes one drink ticket for beer or wine\, in addition to appetizers. Cash bar available. \nREGISTER NOW\n  \n \n 
URL:https://frla.devlara.com/event/northeast-2026-board-installation-mixer/
LOCATION:Champion Brands\, 5571 Florida Mining Blvd S\, Jacksonville\, 32257\, United States
CATEGORIES:Northeast
ATTACH;FMTTYPE=image/png:https://frla.devlara.com/wp-content/uploads/2025/12/Web-NE-2026-Board-Install-.png
ORGANIZER;CN="Nicole Chapman":MAILTO:nchapman@frla.devlara.com
END:VEVENT
BEGIN:VEVENT
DTSTART;TZID=America/New_York:20260204T140000
DTEND;TZID=America/New_York:20260204T150000
DTSTAMP:20260420T120546
CREATED:20260123T182046Z
LAST-MODIFIED:20260123T182430Z
UID:10004596-1770213600-1770217200@frla.devlara.com
SUMMARY:Preparing for Winter 2026–2027 H-2B Visa Petitions (a Pabian Law Webinar)
DESCRIPTION:Attention winter-season hospitality employers! You are invited to join FRLA partner\, Pabian Law\, for their annual H-2B visa planning webinar\, designed to help you prepare for what lies ahead with your winter 2026–2027 H-2B visa petitions. Attorney Keith Pabian will share practical guidance\, timely insights\, and strategic planning tips to help you navigate the H-2B visa process with confidence—particularly in light of increasing demand and the growing likelihood that the H-2B numerical cap will be reached for October 1st start dates. The webinar will also address the impact on the hospitality industry of recent terminations of humanitarian programs\, including Temporary Protected Status (TPS)\, and what these changes may mean for your workforce planning. This webinar is essential for winter-season properties—those busier in the fall\, winter\, and spring than in the summer—who are considering H-2B visas as a staffing solution and want to ensure they are fully prepared for the upcoming season. With work beginning as early as mid-March\, attending this webinar will help you hit the ground running and stay ahead of critical deadlines. \nREGISTER HERE! \n \nIf you have any questions please contact Carly Eglin at carly@pabianlaw.com.  \n 
URL:https://frla.devlara.com/event/h2bvisawebinar/
LOCATION:Online Webinar
ATTACH;FMTTYPE=image/png:https://frla.devlara.com/wp-content/uploads/2023/03/Untitled-design-33.png
END:VEVENT
BEGIN:VEVENT
DTSTART;TZID=America/New_York:20260210T163000
DTEND;TZID=America/New_York:20260210T180000
DTSTAMP:20260420T120546
CREATED:20260203T213405Z
LAST-MODIFIED:20260203T213520Z
UID:10004600-1770741000-1770746400@frla.devlara.com
SUMMARY:FRLA Suncoast - 2026 Board Installation
DESCRIPTION:  \n \n  \nREGISTER NOW
URL:https://frla.devlara.com/event/frla-suncoast-2026-board-installation/
LOCATION:Oyster River Rooftop\, 600 US Highway 41\, Palmetto\, 34221\, United States
CATEGORIES:Suncoast
ATTACH;FMTTYPE=image/png:https://frla.devlara.com/wp-content/uploads/2026/02/Web-2025-Suncoast-Legislative-Breakfast-Panel-.png
ORGANIZER;CN="Dannette Lynch":MAILTO:dannette@frla.devlara.com
END:VEVENT
BEGIN:VEVENT
DTSTART;TZID=America/New_York:20260212T173000
DTEND;TZID=America/New_York:20260212T190000
DTSTAMP:20260420T120546
CREATED:20260203T202901Z
LAST-MODIFIED:20260203T204622Z
UID:10004599-1770917400-1770922800@frla.devlara.com
SUMMARY:Pinellas - 2026 Board Installation Reception
DESCRIPTION:  \n \n  \nSponsorship Opportunities Available!  \nREGISTER NOW
URL:https://frla.devlara.com/event/pinellas-2026-board-installation-reception/
LOCATION:The Sandpearl Resort\, 500 Mandalay Ave\, Clearwater\, FL\, 33767\, United States
CATEGORIES:Pinellas
ATTACH;FMTTYPE=image/png:https://frla.devlara.com/wp-content/uploads/2026/02/Web-Pinellas-2025-Toast-to-The-Board-.png
ORGANIZER;CN="Dannette Lynch":MAILTO:dannette@frla.devlara.com
END:VEVENT
BEGIN:VEVENT
DTSTART;TZID=America/New_York:20260212T173000
DTEND;TZID=America/New_York:20260212T213000
DTSTAMP:20260420T120546
CREATED:20251107T151313Z
LAST-MODIFIED:20260116T153601Z
UID:10004579-1770917400-1770931800@frla.devlara.com
SUMMARY:Broward - 2nd Annual ROSE Awards
DESCRIPTION:FRLA Broward Presents: \nThe 2nd Annual ROSE Awards\n• February 12\, 2026 •\nThe Diplomat Beach Resort\n  \nThe ROSE (Recognition of Service Excellence) Awards recognizes front line hospitality employees who demonstrate excellent customer service. These industry champions showcase the region’s commitment to creating an extraordinary visitor experience. Join the FRLA Broward Chapter for the 2nd Annual ROSE Awards Ceremony taking place on February 12\, 2026 at The Diplomat Beach Resort.   \n\nThursday\, February 12\, 2026 from 5:30 – 9:30 PM\nThe Diplomat Beach Resort\n3555 S. Ocean Drive Hollywood\, FL 33019\n \nMember Pricing:\n$165 / Person\n$1200 / Table of 8 \nFuture Member Pricing:\n$195 / Person\n$1500 / Table of 8  \n  \nClick Here to Purchase Tickets or a Table\n  \nSponsorship Opportunities: \nTITLE SPONSOR\n$10\,000 (Company name in title plus a table sponsor) \nPRESENTING\n$5\,000 (Video/Slide\, Custom Eblast\, social media\, 4 tickets) \nGOLD SPONSORS\n$2\,500 (program recognition\, Eblast\, social media\, 2 tickets) \nSILVER SPONSORS\n$1\,000 (logo in invites\, program recognition\, 1 ticket) \nBRONZE SPONSORS\n$500 (logo in invites\, program recognition) \n  \n\n\nTo become a member or SPONSOR\, contact FRLA Broward Regional Director Rozeta Mahboubi at 954-270-5814 or rmahboubi@frla.devlara.com
URL:https://frla.devlara.com/event/broward-2nd-annual-rose-awards/
LOCATION:The Diplomat Beach Resort\, 3555 S Ocean Dr\, Hollywood\, FL\, 33019\, United States
CATEGORIES:Broward
ATTACH;FMTTYPE=image/png:https://frla.devlara.com/wp-content/uploads/2025/11/Web-Broward-2026-ROSE-Awards-.png
ORGANIZER;CN="Rozeta Mahboubi":MAILTO:rmahboubi@frla.devlara.com
GEO:25.9916398;-80.1178208
X-APPLE-STRUCTURED-LOCATION;VALUE=URI;X-ADDRESS=The Diplomat Beach Resort 3555 S Ocean Dr Hollywood FL 33019 United States;X-APPLE-RADIUS=500;X-TITLE=3555 S Ocean Dr:geo:-80.1178208,25.9916398
END:VEVENT
BEGIN:VEVENT
DTSTART;TZID=America/New_York:20260213T073000
DTEND;TZID=America/New_York:20260213T153000
DTSTAMP:20260420T120546
CREATED:20251216T171544Z
LAST-MODIFIED:20260119T212549Z
UID:10004593-1770967800-1770996600@frla.devlara.com
SUMMARY:Central Florida - Golf Tournament
DESCRIPTION:Join us on the fairways at El Campeón\, one of Florida’s most challenging and historic golf courses. Known for rolling fairways\, dramatic elevation changes\, and beautiful lakeside views\, this course delivers a round that tests skills while rewarding you with standout scenery. El Campeón blends classic design with Florida tradition to create an unforgettable golf experience. Register today! \n  \nEvent Pricing Details: \nSingle Player: $350 \nHole Sponsor: $600 \nFoursome: $1\,400 \nBreakfast Sponsor: $2\,000 \nGolf Cart Sponsor: $3\,500 \nNaming Sponsor: $5\,000 \nREGISTER NOW
URL:https://frla.devlara.com/event/138968/
LOCATION:Mission Resort El Campeon\, 10400 County Road 48\, Howey-in-the-Hills\, 34737\, United States
CATEGORIES:Central FL
ATTACH;FMTTYPE=image/png:https://frla.devlara.com/wp-content/uploads/2025/12/Web-CF-Annual-Golf-Tournament-.png
ORGANIZER;CN="Mel Coffey":MAILTO:mel@frla.devlara.com
END:VEVENT
BEGIN:VEVENT
DTSTART;TZID=America/New_York:20260217T153000
DTEND;TZID=America/New_York:20260217T170000
DTSTAMP:20260420T120546
CREATED:20260128T145313Z
LAST-MODIFIED:20260203T195311Z
UID:10004598-1771342200-1771347600@frla.devlara.com
SUMMARY:Hillsborough - Board Installation Reception - DATE CHANGE!
DESCRIPTION:  \nREGISTER NOW
URL:https://frla.devlara.com/event/hillsborough-board-installation-reception/
LOCATION:Santo’s Drinkeria Roof Top Bar\, 1607 N 22 Street\, Tampa\, 33605\, United States
CATEGORIES:Hillsborough
ATTACH;FMTTYPE=image/png:https://frla.devlara.com/wp-content/uploads/2026/01/Web-Hillsborough-Board-Installation-Reception-1.png
ORGANIZER;CN="Dannette Lynch":MAILTO:dannette@frla.devlara.com
END:VEVENT
BEGIN:VEVENT
DTSTART;TZID=America/New_York:20260218T170000
DTEND;TZID=America/New_York:20260218T190000
DTSTAMP:20260420T120546
CREATED:20260106T200511Z
LAST-MODIFIED:20260106T200642Z
UID:10004594-1771434000-1771441200@frla.devlara.com
SUMMARY:Palm Beach - February Hospitality Networking Social
DESCRIPTION:Join us for a fun and casual evening at the FRLA Palm Beach February Hospitality Networking Social! This in-person event is the perfect chance to meet industry pros\, share ideas\, and make great connections. Whether you’re new to the scene or a hospitality veteran\, come mingle\, chat\, and grow your network in a relaxed setting. Don’t miss out on an awesome opportunity to connect with like-minded folks in Palm Beach! Enjoy raffle prizes and networking with top industry leaders from our local hospitality community. Don’t forget to bring your business card for two free drinks and hors d’oeuvres! \n  \nEvent Details:  \nWednesday\, February 18\, 2026 \n5:00-7:00 p.m. \nStage | 2000 PGA Boulevard\, Palm Beach Gardens\, FL 33408 \nEvent Pricing: \nFRLA Members: $25 \nFuture Members: $35 \nAdvanced Registration is required! Registration deadline: Friday\, February 13\, 2026 \n  \nREGISTER \n  \nSponsored by:
URL:https://frla.devlara.com/event/palm-beach-february-hospitality-networking-social/
LOCATION:Stage Kitchen & Bar\, 2000 PGA Boulevard\, Palm Beach Gardens\, 33408\, United States
CATEGORIES:Palm Beach
ATTACH;FMTTYPE=image/png:https://frla.devlara.com/wp-content/uploads/2026/01/Web-Palm-Beach-Hospitality-Networking-Social-Feb.png
ORGANIZER;CN="Jodi Cross":MAILTO:jcross@frla.devlara.com
END:VEVENT
BEGIN:VEVENT
DTSTART;TZID=America/New_York:20260225T080000
DTEND;TZID=America/New_York:20260225T100000
DTSTAMP:20260420T120546
CREATED:20260204T165331Z
LAST-MODIFIED:20260204T165436Z
UID:10004601-1772006400-1772013600@frla.devlara.com
SUMMARY:Volusia - February Chapter Meeting: Jeep Beach\, Bike Week\, and 2026 Tourism Trends
DESCRIPTION:You’re Invited – FRLA Volusia Chapter Meeting: Jeep Beach and Insights on Bike Week & 2026 Tourism Trends\n  \nWednesday\, February 25 | 8:00AM-9:00AM Breakfast & Networking | 9:00AM-10:00AM Program\nOcean Center – Meeting Room 201ABC\n101 N. Atlantic Ave\nDaytona Beach\, 32118 \nParking is available in the South Parking Lot. Vouchers will be provided at the meeting. \nWe are excited to welcome Charlene Greer\, CEO of Jeep Beach\, Inc.\, who will share insights on Jeep Beach and its impact on the community. Lori Campbell Baker from Daytona Beach CVB will provide an overview of 2026 Tourism Trends\, and Janet Kersey from the Daytona Beach Regional Chamber will discuss Bike Week\, including its effects on the hospitality industry\, planning\, and relevant data to help you stay informed and prepared. \nThis is a fantastic opportunity to network\, learn\, and stay current on the Volusia Chapter’s latest news and developments! \n  \nREGISTER NOW
URL:https://frla.devlara.com/event/volusia-february-chapter-meeting-jeep-beach-bike-week-and-2026-tourism-trends/
LOCATION:Ocean Center\, 101 N Atlantic Avenue\, Daytona Beach\, 32118\, United States
CATEGORIES:Volusia Chapter
ATTACH;FMTTYPE=image/png:https://frla.devlara.com/wp-content/uploads/2026/02/Web-Volusia-February-Chapter-Meeting.png
ORGANIZER;CN="Destiny Neves":MAILTO:dneves@frla.devlara.com
END:VEVENT
BEGIN:VEVENT
DTSTART;TZID=America/New_York:20260225T120000
DTEND;TZID=America/New_York:20260225T123000
DTSTAMP:20260420T120546
CREATED:20260126T184152Z
LAST-MODIFIED:20260126T184319Z
UID:10004597-1772020800-1772022600@frla.devlara.com
SUMMARY:Google Posts 101: A Virtual Interactive Workshop
DESCRIPTION:In 2026\, fresh and timely content is the key to staying visible on Search. Whether you’re promoting a live performance\, highlighting a seasonal offer\, or simply sharing what’s happening at your business this weekend\, Google Posts are an effective tool for real-time engagement. \nJoin us for a 30-minute introductory workshop on February 25th 9am PT/ 12pm ET\, where we’ll show you how to use the newly updated Google Posts tool to keep your customers in the loop on timely events\, offers and updates.  \nWhat to expect: \n\nA beginner-friendly breakdown of the Google Posts tool\nBest practices for effective posts\nLive Build: We’ll create and publish a post together in real-time\nPlenty of time for questions during our live Q&A\n\nREGISTER HERE!
URL:https://frla.devlara.com/event/googleposts101/
LOCATION:Online Webinar
ATTACH;FMTTYPE=image/png:https://frla.devlara.com/wp-content/uploads/2023/03/Untitled-design-33.png
END:VEVENT
BEGIN:VEVENT
DTSTART;TZID=America/New_York:20260225T173000
DTEND;TZID=America/New_York:20260225T203000
DTSTAMP:20260420T120546
CREATED:20250618T153506Z
LAST-MODIFIED:20260220T025439Z
UID:10004543-1772040600-1772051400@frla.devlara.com
SUMMARY:Northeast - 17th Annual ROSE Awards
DESCRIPTION:  \nEvent registration has closed. For questions\, please contact Nicole at nchapman@frla.devlara.com\n\nJoin the FRLA Northeast Chapter to celebrate the 17th Annual ROSE Awards! \nPlease join the Florida Restaurant & Lodging Association (FRLA) Northeast Chapter at the Recognition of Service Excellence (ROSE) Awards as we honor Northeast Florida frontline hospitality employees who demonstrate excellent customer service and keep our industry thriving. These industry champions showcase the region’s commitment to creating an extraordinary visitor experience! \nWednesday\, February 25\, 2026  \n5:30 pm – 8:30 pm \nHyatt Regency Jacksonville Riverfront\n225 E Coastline Dr.\nJacksonville\, FL 32202 \n5:30 PM – 6:15 PM Registration/Cocktail Hour \n6:15 PM – 8:30 PM Dinner/Award Program \nDress: Business/Cocktail \nCOST: Members: $85 per person or $670 per table (8 seats) \nFuture Members: $100 per person or $775 table (8 seats) \nIf you wish to pay with a check and receive invoice\, please email nchapman@frla.devlara.com \n \nSponsorship Opportunities \n  \nClick here to learn more about ROSE Awards and for the nomination information.  \n  \n\n \n\n 
URL:https://frla.devlara.com/event/northeast-17th-annual-rose-awards/
LOCATION:Hyatt Regency Jacksonville Riverfront\, 225 East Coastline Drive\, Jacksonville\, FL\, 32202\, United States
CATEGORIES:Northeast
ATTACH;FMTTYPE=image/png:https://frla.devlara.com/wp-content/uploads/2025/06/2026-ROSE-header-web.png
ORGANIZER;CN="Nicole Chapman":MAILTO:nchapman@frla.devlara.com
END:VEVENT
BEGIN:VEVENT
DTSTART;TZID=America/New_York:20260226T173000
DTEND;TZID=America/New_York:20260226T193000
DTSTAMP:20260420T120546
CREATED:20260115T215546Z
LAST-MODIFIED:20260115T215546Z
UID:10004595-1772127000-1772134200@frla.devlara.com
SUMMARY:Treasure Coast - February Hospitality Networking Event
DESCRIPTION:Mark your calendar for February 26\, 2026\, and join the FRLA Treasure Coast Chapter for a networking event at Martin Arts\, located at the Court House Cultural Center! \nConnect with fellow hospitality professionals\, share ideas\, and build relationships in a relaxed and welcoming atmosphere. This in-person event is a great opportunity to expand your network and learn from others in the industry. Don’t miss this chance to mingle\, enjoy great food\, and have a fantastic time with like-minded individuals. See you there! \nPlease Bring Your Business Card for Two Free Drinks (Beer/Wine) & Hors d’oeuvres. \n  \nEvent Details:\nThursday\, February 26\, 2026\n5:30 – 7:30 PM\nMartin Arts @ The Court House Cultural Center\n80 SE Ocean Boulevard\nStuart\, FL 34994 \nEvent Pricing:\nFRLA Members: $25\nFuture Members: $40 \n  \nAdvanced Registration Required! \nREGISTER NOW \nRegistration Deadline: Monday\, February 23\, 2026 \n  \nSponsored By:  \n \nIn Partnership With 
URL:https://frla.devlara.com/event/treasure-coast-february-hospitality-networking-event/
LOCATION:MartinArts\, 80 SE Ocean Blvd\, Stuart\, 34994\, United States
CATEGORIES:Treasure Coast
ATTACH;FMTTYPE=image/png:https://frla.devlara.com/wp-content/uploads/2026/01/Web-Treasure-Coast-February-Networking-Mixer.png
ORGANIZER;CN="Jodi Cross":MAILTO:jcross@frla.devlara.com
END:VEVENT
BEGIN:VEVENT
DTSTART;TZID=America/New_York:20260227T113000
DTEND;TZID=America/New_York:20260227T130000
DTSTAMP:20260420T120546
CREATED:20260212T230751Z
LAST-MODIFIED:20260212T230751Z
UID:10004605-1772191800-1772197200@frla.devlara.com
SUMMARY:Forgotten Coast Meet & Greet Luncheon
DESCRIPTION:The FRLA Forgotten Coast Chapter invites you to join us on Friday\, February 27th\, for a Meet & Greet! Learn more about partner benefits\, FRLA’s engagement within the hospitality community\, and reignite connections! Don’t miss these TWO opportunities to connect with your local FRLA chapter. RSVP today and join us on February 27th from 11:30 AM – 1:00 PM ET at Red Pirate Family Grill & Oyster Bar or from 5:30 PM – 7:30 PM ET at Tap Root!  \nRepresentatives from The Southern Agency\, Filta\, RevoltTek\, and R365 will share details on partner benefits. Foster connections\, grow your network\, and learn more about the benefits available to your business! \n \nEvent Cost:\nFREE \nRSVP Now\n  \n \n 
URL:https://frla.devlara.com/event/forgotten-coast-meet-greet-luncheon/
LOCATION:Red Pirate Family Grill & Oyster Bar\, 236 US Highway 98\, Eastpoint\, United States
CATEGORIES:Forgotten Coast
ATTACH;FMTTYPE=image/png:https://frla.devlara.com/wp-content/uploads/2026/02/Web-FC-Meet-Greet-Luncheon.png
ORGANIZER;CN="Marissa Bonham":MAILTO:mbonham@frla.devlara.com
END:VEVENT
BEGIN:VEVENT
DTSTART;TZID=America/New_York:20260227T173000
DTEND;TZID=America/New_York:20260227T193000
DTSTAMP:20260420T120546
CREATED:20260212T231024Z
LAST-MODIFIED:20260212T231024Z
UID:10004606-1772213400-1772220600@frla.devlara.com
SUMMARY:Forgotten Coast Meet & Greet Reception
DESCRIPTION:The FRLA Forgotten Coast Chapter invites you to join us on Friday\, February 27th\, for a Meet & Greet! Learn more about partner benefits\, FRLA’s engagement within the hospitality community\, and reignite connections! Don’t miss these TWO opportunities to connect with your local FRLA chapter. RSVP today and join us on February 27th from 11:30 AM – 1:00 PM ET at Red Pirate Family Grill & Oyster Bar or from 5:30 PM – 7:30 PM ET at Tap Root!  \nRepresentatives from The Southern Agency\, Filta\, RevoltTek\, and R365 will share details on partner benefits. Foster connections\, grow your network\, and learn more about the benefits available to your business! \n \nEvent Cost:\nFREE \nRSVP Now\n  \n \n 
URL:https://frla.devlara.com/event/forgotten-coast-meet-greet-reception-2/
LOCATION:Tap Root\, 212 Monument Avenue\, Port St. Joe\, United States
CATEGORIES:Forgotten Coast
ATTACH;FMTTYPE=image/png:https://frla.devlara.com/wp-content/uploads/2026/02/Web-FC-Meet-Greet-Reception-1.png
ORGANIZER;CN="Marissa Bonham":MAILTO:mbonham@frla.devlara.com
END:VEVENT
END:VCALENDAR