BEGIN:VCALENDAR
VERSION:2.0
PRODID:-//FRLA - ECPv6.15.20//NONSGML v1.0//EN
CALSCALE:GREGORIAN
METHOD:PUBLISH
X-WR-CALNAME:FRLA
X-ORIGINAL-URL:https://frla.devlara.com
X-WR-CALDESC:Events for FRLA
REFRESH-INTERVAL;VALUE=DURATION:PT1H
X-Robots-Tag:noindex
X-PUBLISHED-TTL:PT1H
BEGIN:VTIMEZONE
TZID:America/New_York
BEGIN:DAYLIGHT
TZOFFSETFROM:-0500
TZOFFSETTO:-0400
TZNAME:EDT
DTSTART:20240310T070000
END:DAYLIGHT
BEGIN:STANDARD
TZOFFSETFROM:-0400
TZOFFSETTO:-0500
TZNAME:EST
DTSTART:20241103T060000
END:STANDARD
BEGIN:DAYLIGHT
TZOFFSETFROM:-0500
TZOFFSETTO:-0400
TZNAME:EDT
DTSTART:20250309T070000
END:DAYLIGHT
BEGIN:STANDARD
TZOFFSETFROM:-0400
TZOFFSETTO:-0500
TZNAME:EST
DTSTART:20251102T060000
END:STANDARD
BEGIN:DAYLIGHT
TZOFFSETFROM:-0500
TZOFFSETTO:-0400
TZNAME:EDT
DTSTART:20260308T070000
END:DAYLIGHT
BEGIN:STANDARD
TZOFFSETFROM:-0400
TZOFFSETTO:-0500
TZNAME:EST
DTSTART:20261101T060000
END:STANDARD
END:VTIMEZONE
BEGIN:VEVENT
DTSTART;TZID=America/New_York:20250903T090000
DTEND;TZID=America/New_York:20250903T103000
DTSTAMP:20260421T102943
CREATED:20250826T191136Z
LAST-MODIFIED:20250826T191136Z
UID:10004559-1756890000-1756895400@frla.devlara.com
SUMMARY:Northeast - HR Panel: How to Grow Your Career in Hospitality
DESCRIPTION:Join the Florida Restaurant & Lodging Association Northeast Chapter for our annual HR Panel:  Climbing the Ladder: How to Grow Your Career in Hospitality! This engaging session is designed to inspire and equip hospitality professionals at all levels with real-world strategies for career growth. Through a dynamic panel discussion and interactive breakout groups\, attendees will gain actionable insights on: \n\nNavigating career pathways in today’s evolving hospitality industry\nDeveloping skills and mindsets that lead to promotion\nLearning from real-life success stories of industry leaders\n\nThis panel is ideal for frontline hospitality staff\, mid-level managers aiming for senior roles\, and HR professionals supporting career development! We encourage you to bring your staff and colleagues for a morning of learning\, networking\, and inspiration. It’s a great opportunity to invest in your team’s growth and connect with others in the industry. \nFeaturing:\nModerator: Samara Johns\, One Ocean Resort\nPanelists: Amy Walter\, V’s Pizza | Valencia Grooms\, Sawgrass Marriott \nEvent Details: \nWednesday\, September 3 | 9:00–10:30 a.m.\nV Pizza + Sidecar – Gate Parkway\n7510 Gate Pkwy\, Jacksonville\, FL 32256 \nEvent Cost:\nFREE!  \nRegister Now\n 
URL:https://frla.devlara.com/event/northeast-hr-panel-how-to-grow-your-career-in-hospitality/
LOCATION:V Pizza + Sidecar – Gate Parkway\, 7510 Gate Pkwy\, Jacksonville\, 32256\, United States
CATEGORIES:Northeast
ATTACH;FMTTYPE=image/png:https://frla.devlara.com/wp-content/uploads/2025/08/Web-NE-HR-Panel-Sept-25-.png
ORGANIZER;CN="Nicole Chapman":MAILTO:nchapman@frla.devlara.com
END:VEVENT
BEGIN:VEVENT
DTSTART;TZID=America/New_York:20250909T093000
DTEND;TZID=America/New_York:20250909T103000
DTSTAMP:20260421T102943
CREATED:20250911T181109Z
LAST-MODIFIED:20250911T181248Z
UID:10004564-1757410200-1757413800@frla.devlara.com
SUMMARY:ADA Website Compliance
DESCRIPTION:Your website is often the first point of contact and interaction that guests have with your business.  Ensure it is not only welcoming but also accessible to all and meets legal requirements. In this presentation\, we’ll break down what the Americans with Disabilities Act (ADA) requires for websites\, what legal risks noncompliance can create\, why hospitality businesses are increasingly being targeted with lawsuits\, how courts are ruling on website accessibility\, and the steps you can take now to protect your business. \n\nWebinar Recording:  FRLA ADA Compliance Webinar Recording 2025 1.mp4\nPowerPoint Presentation:  ADA Website Compliance Presentation (FRLA) 4925-3255-3318 v.3 (1).pptx\nWebsite Assessment Contact: LIGHTHOUSE WORKS FREE WEBSITE ASSESSMENT\n\n  \nIf you have any questions or would like additional support with ADA website compliance\, please feel free to reach out. \n\nKeith Hesse: khesse@shuffieldlowman.com\nMegan Nowicki: mnowicki@shuffieldlowman.com
URL:https://frla.devlara.com/event/ada-website-compliance/
LOCATION:Online Webinar
ATTACH;FMTTYPE=image/png:https://frla.devlara.com/wp-content/uploads/2023/03/Untitled-design-33.png
END:VEVENT
BEGIN:VEVENT
DTSTART;TZID=America/New_York:20250909T093000
DTEND;TZID=America/New_York:20250909T103000
DTSTAMP:20260421T102943
CREATED:20250729T183131Z
LAST-MODIFIED:20250729T183131Z
UID:10004556-1757410200-1757413800@frla.devlara.com
SUMMARY:Webinar: ADA Website Compliance
DESCRIPTION:Is Your Website Accessible to Everyone?\nWhat Every Hospitality Business MUST Know for ADA Compliance\n  \nWebinar: ADA Website Compliance \nSeptember 9\, 2025 | 9:30 AM ET \nZoom Webinar  \n  \nYour website is often the first point of contact and interaction that guests have with your business. Ensure it is not only welcoming but also accessible to all and meets legal requirements. In this presentation\, we’ll break down what the Americans with Disabilities Act (ADA) requires for websites\, what legal risks noncompliance can create\, why hospitality businesses are increasingly being targeted with lawsuits\, how courts are ruling on website accessibility\, and the steps you can take now to protect your business. \n \n  \nClick Here to Register\n  \n 
URL:https://frla.devlara.com/event/webinar-ada-website-compliance/
ATTACH;FMTTYPE=image/png:https://frla.devlara.com/wp-content/uploads/2025/07/Web-CFStatewide-ADA-Website-Compliance-Webinar.png
END:VEVENT
END:VCALENDAR