BEGIN:VCALENDAR
VERSION:2.0
PRODID:-//FRLA - ECPv6.15.20//NONSGML v1.0//EN
CALSCALE:GREGORIAN
METHOD:PUBLISH
X-ORIGINAL-URL:https://frla.devlara.com
X-WR-CALDESC:Events for FRLA
REFRESH-INTERVAL;VALUE=DURATION:PT1H
X-Robots-Tag:noindex
X-PUBLISHED-TTL:PT1H
BEGIN:VTIMEZONE
TZID:America/New_York
BEGIN:DAYLIGHT
TZOFFSETFROM:-0500
TZOFFSETTO:-0400
TZNAME:EDT
DTSTART:20250309T070000
END:DAYLIGHT
BEGIN:STANDARD
TZOFFSETFROM:-0400
TZOFFSETTO:-0500
TZNAME:EST
DTSTART:20251102T060000
END:STANDARD
BEGIN:DAYLIGHT
TZOFFSETFROM:-0500
TZOFFSETTO:-0400
TZNAME:EDT
DTSTART:20260308T070000
END:DAYLIGHT
BEGIN:STANDARD
TZOFFSETFROM:-0400
TZOFFSETTO:-0500
TZNAME:EST
DTSTART:20261101T060000
END:STANDARD
BEGIN:DAYLIGHT
TZOFFSETFROM:-0500
TZOFFSETTO:-0400
TZNAME:EDT
DTSTART:20270314T070000
END:DAYLIGHT
BEGIN:STANDARD
TZOFFSETFROM:-0400
TZOFFSETTO:-0500
TZNAME:EST
DTSTART:20271107T060000
END:STANDARD
END:VTIMEZONE
BEGIN:VEVENT
DTSTART;VALUE=DATE:20260506
DTEND;VALUE=DATE:20260507
DTSTAMP:20260420T200904
CREATED:20260302T193915Z
LAST-MODIFIED:20260417T221823Z
UID:10004612-1778025600-1778111999@frla.devlara.com
SUMMARY:Pinellas & Hillsborough - 3rd Annual Reverse Hotel & Restaurant Showcase
DESCRIPTION:Save the Date! Join the FRLA Pinellas and Hillsborough Chapter on May 6th for the 3rd Annual Reverse Hotel & Restaurant Showcase!
URL:https://frla.devlara.com/event/pinellas-hillsborough-3rd-annual-reverse-hotel-restaurant-showcase/
LOCATION:Marriott St. Petersburg Clearwater\, 12600 Roosevelt Blvd\, St. Petersburg\, FL\, 33716\, United States
CATEGORIES:Hillsborough,Pinellas
ATTACH;FMTTYPE=image/png:https://frla.devlara.com/wp-content/uploads/2026/03/Web-2026HillsboroughPinellas-Reverse-Showcase-2.png
ORGANIZER;CN="Dannette Lynch":MAILTO:dannette@frla.devlara.com
END:VEVENT
BEGIN:VEVENT
DTSTART;TZID=America/New_York:20260521T143000
DTEND;TZID=America/New_York:20260521T170000
DTSTAMP:20260420T200904
CREATED:20260302T211912Z
LAST-MODIFIED:20260415T173141Z
UID:10004614-1779373800-1779382800@frla.devlara.com
SUMMARY:Pinellas - Annual Bowling Tournament
DESCRIPTION:Get ready to roll into an unforgettable afternoon because one of our most popular events is back and better than ever! Join the FRLA’s Pinellas Chapter for the 5th Annual Bowling Tournament\, where the fun is “Strikingly” good! This is the perfect opportunity for team building while mingling with industry peers and colleagues. Indulge with good food\, refreshing beverages and get your hands on some fabulous raffle prizes. Let’s celebrate the industry and and strike up some fun because there’s absolutely no time to “SPARE”! \nEvent Details:\nThursday\, May 21\, 2026\n2:30 PM – Team Check in\n3:00 – 5:00 PM – Tournament Play\nLiberty Lanes\, 114014 Starkey Road Largo\, FL \nTournament Cost:\nTeam of Five: $180\nSingle Bowler: $55\nSpectator: $25 \nRegistration Includes:  \n\nBowling registration includes shoe rental\, ball\, two games\,\nunlimited soda and a large pizza for each team\nOne domestic beer per player\nAwards- 1st and 2nd Place\, Team Spirit and Best Team Attire\nRaffles throughout the afternoon\n\nRegister Now! \nDeadline: May 18\, 2026 \n  \nSponsorship Opportunities: \nEvent & Tournament T-Shirt Sponsor: $750\nOpening welcome at event\, prominent logo on tournament t- shirt\, display signage with corporate logo\, plus five tournament bowlers. \nLane Sponsor: $350\nLED display signage at sponsored lane\, corporate logo on tournament t-shirt\, plus one team of five tournament bowlers. \nRAFFLE ITEM DONATIONS ARE APPRECIATED!
URL:https://frla.devlara.com/event/pinellas-annual-bowling-tournament/
LOCATION:Liberty Lanes\, 11401 Starkey Road\, Largo\, FL\, 33773\, United States
CATEGORIES:Pinellas
ATTACH;FMTTYPE=image/png:https://frla.devlara.com/wp-content/uploads/2026/03/web-Pinellas-2026-Bowling-1.png
ORGANIZER;CN="Dannette Lynch":MAILTO:dannette@frla.devlara.com
END:VEVENT
BEGIN:VEVENT
DTSTART;TZID=America/New_York:20260622T083000
DTEND;TZID=America/New_York:20260622T223000
DTSTAMP:20260420T200904
CREATED:20260417T174106Z
LAST-MODIFIED:20260417T174207Z
UID:10004639-1782117000-1782167400@frla.devlara.com
SUMMARY:Pinellas/Hillsborough - Hospitality Forward: Solving Hospitality's Generational Puzzle
DESCRIPTION:More Details Coming Soon!! \n 
URL:https://frla.devlara.com/event/pinellas-hillsborough-hospitality-forward-solving-hospitalitys-generational-puzzle/
CATEGORIES:Hillsborough,Pinellas
ATTACH;FMTTYPE=image/png:https://frla.devlara.com/wp-content/uploads/2026/04/Web-Hosp.-Fwd-June-2026-1.png
ORGANIZER;CN="Dannette Lynch":MAILTO:dannette@frla.devlara.com
END:VEVENT
BEGIN:VEVENT
DTSTART;VALUE=DATE:20260810
DTEND;VALUE=DATE:20260811
DTSTAMP:20260420T200904
CREATED:20260318T141226Z
LAST-MODIFIED:20260318T141226Z
UID:10004631-1786320000-1786406399@frla.devlara.com
SUMMARY:Pinellas - 27th Annual Hospitality Golf Classic
DESCRIPTION:Save the Date!\nThe 27th Annual FRLA Pinellas Hospitality Golf Classic\nAugust 10\, 2026\nThe Vinoy Resort and Golf Club\n  \nMore details to follow!
URL:https://frla.devlara.com/event/pinellas-27th-annual-hospitality-golf-classic/
LOCATION:The Vinoy Golf Club\, 600 Snell Isle Boulevard\, St. Petersburg\, FL\, United States
CATEGORIES:Pinellas
ATTACH;FMTTYPE=image/png:https://frla.devlara.com/wp-content/uploads/2026/03/Web-Pinellas-2026-Golf.png
ORGANIZER;CN="Dannette Lynch":MAILTO:dannette@frla.devlara.com
END:VEVENT
BEGIN:VEVENT
DTSTART;VALUE=DATE:20260818
DTEND;VALUE=DATE:20260821
DTSTAMP:20260420T200904
CREATED:20230117T191628Z
LAST-MODIFIED:20260416T173028Z
UID:10004291-1787011200-1787270399@frla.devlara.com
SUMMARY:Summit
DESCRIPTION:FRLA’s Summit is back for its 14th annual premier hospitality event\, August 18-20\, 2026 at the Seminole Hard Rock Hotel & Casino in Hollywood\, FL. Join Florida’s most influential hospitality professionals and top-level executives for this two-day event. Bringing you leading industry trends\, best practices\, top-notch speakers\, and unparalleled networking\, we’ve made sure there’s a seat for everyone at our table. \nTICKETS\n*Tickets on sale soon. \nVIEW SOME OF THE 2025 SPEAKERS\nTim Tebow\n2025 AGENDA\nCLICK HERE TO VIEW AGENDA \nACCOMODATIONS\nSeminole Hard Rock Hotel & Casino\n1 Seminole Way\, Davie\, FL 33314 \nCLICK HERE TO BOOK YOUR ROOM \nRoom rate: $234/night plus taxes & fees\n*Should you have any questions please contact Ashley Gholston\, Events & Industry Relations Director\, agholston@frla.devlara.com.  \n\nProperty Maps: VIEW HERE \nDinner Reservations:\nIf you would like to dine on property please call in advance to Customer Care at 954-316-2900 to make reservations at Cipresso Italian\, Council Oak Steaks and Seafood\, and Kuro Japanese. Please tell the agent that you are with FRLA. Here is a link to available dining options if you would like to preview menus. \n \n\nMARKETING & ALLIED MEMBER COUNCIL\nCLICK HERE to view the Marketing & Allied Member Council. This event would not be possible without the input and guidance from our council. THANK YOU for investing your time and for your continued support of the FRLA! If you have interest in joining the Marketing & Allied Member Council contact Ashley Jackson. \n2025 HIGHLIGHT VIDEO
URL:https://frla.devlara.com/event/summit/
LOCATION:Seminole Hard Rock Hotel & Casino – Hollywood\, FL\, 1 Seminole Way\, Davie\, FL\, 33314\, United States
CATEGORIES:Bay,Broward,Central FL,Collier,EscaRosa,Florida Inns,Gulf Island Coast,Hillsborough,Lee,Miami Dade,Monroe,Northeast,Northwest FL,Palm Beach,Pinellas,Space Coast,Suncoast,Tallahassee
ATTACH;FMTTYPE=image/png:https://frla.devlara.com/wp-content/uploads/2023/01/Save-the-Date-1-1.png
END:VEVENT
BEGIN:VEVENT
DTSTART;TZID=America/New_York:20260903T173000
DTEND;TZID=America/New_York:20260903T203000
DTSTAMP:20260420T200905
CREATED:20260204T183233Z
LAST-MODIFIED:20260204T183233Z
UID:10004602-1788456600-1788467400@frla.devlara.com
SUMMARY:FRLA Pinellas ROSE Awards - SAVE THE DATE
DESCRIPTION:SAVE THE DATE\nThe 7th Annual Pinellas ROSE Awards\nSeptember 3\, 2026\nSandpearl Resort Clearwater Beach\n  \n  \nThe7th Annual Pinellas ROSE (Recognition of Service Excellence) Awards will celebrate the remarkable efforts of frontline hospitality professionals who consistently exceed expectations in delivering exceptional service. These individuals truly epitomize the unwavering commitment of the county to curate unforgettable experiences for each and every visitor. We cordially invite you to be a part of this prestigious event as we pay tribute to these outstanding champions who are shaping the landscape of hospitality with their dedication and passion.  \nFor sponsorship or additional information\, please contact FRLA Regional Director Dannette Lynch \n727-642-3404 or dannette@frla.devlara.com \n  \n 
URL:https://frla.devlara.com/event/frla-pinellas-rose-awards-save-the-date/
LOCATION:Sandpearl Resort\, 500 Mandaly Ave\, Clearwater Beach\, FL\, 33767
CATEGORIES:Pinellas
ATTACH;FMTTYPE=image/png:https://frla.devlara.com/wp-content/uploads/2026/02/Web-2026-Pinellas-Rose-Awards-Save-the-Date.png
ORGANIZER;CN="Dannette Lynch":MAILTO:dannette@frla.devlara.com
GEO:27.9829289;-82.8275354
X-APPLE-STRUCTURED-LOCATION;VALUE=URI;X-ADDRESS=Sandpearl Resort 500 Mandaly Ave Clearwater Beach FL 33767;X-APPLE-RADIUS=500;X-TITLE=500 Mandaly Ave:geo:-82.8275354,27.9829289
END:VEVENT
BEGIN:VEVENT
DTSTART;VALUE=DATE:20261025
DTEND;VALUE=DATE:20261028
DTSTAMP:20260420T200905
CREATED:20220120T230405Z
LAST-MODIFIED:20260123T183243Z
UID:10004172-1792886400-1793145599@frla.devlara.com
SUMMARY:The Florida Restaurant Show
DESCRIPTION: \n\nINTRODUCING…THE FLORIDA RESTAURANT SHOW!\n\n\n\n\n\n\nWhether you’re an independent owner\, quick-serve restaurant operator\, chef\, caterer\, baker\, bar or nightclub operator\, hospital\, hotel\, or commercial foodservice personnel — join us for 3 days October 25-27\, 2026\, at the Florida Restaurant Show at the Orange County Convention Center. \nLearn about the hottest menu trends\, state-of-the-art design and decor\, the best in business education within our education programming\, and hundreds of the leading vendors and purveyors dedicated to serving the restaurant & foodservice community — all under one roof. \nWatch live culinary performances and listen in on discussions about how our chefs came to be. Emerging trends abound on the show floor with hundreds of exhibitors and in our exciting special events. Spark your creative appetite and celebrate your passion for the profession. \nThank you so much to all our partners and supporters! \n\n\n\n\n\nLEARN MORE HERE\n  \nQuestions? Contact: \n\nRegistration: FRLA restaurant and hotel members receive unlimited free badges\, and will need to select the “FRLA Member” option and include their member ID . If you need assistance with registration please contact customer service at  PizzaSummitFloridaRestaurant@maritz.com. \nExhibits & Sponsorships: Paul Pedrow at (484) 823-9608\, paul@therestaurantevents.com or Joe Carlino joe@therestaurantevents.com \nEducational Breakout Sessions: Amy Riemer at 978-502-4895 or amy@riemercommunications.com
URL:https://frla.devlara.com/event/florida-restaurant-lodging-show/
LOCATION:Orange County Convention Center\, Orlando\, FL
CATEGORIES:Bay,Broward,Central FL,Charlotte,Citrus,Collier,EscaRosa,Florida Inns,Forgotten Coast,Greater Ocala,Gulf Island Coast,Hillsborough,Lake,Lee,Lee Chapter,Marion,Miami Dade,Monroe,North Central FL,Northeast,Northwest FL,Palm Beach,Pasco/Hernando,Pinellas,Polk,Space Coast,Suncoast,Tallahassee,Treasure Coast,Volusia
ATTACH;FMTTYPE=image/png:https://frla.devlara.com/wp-content/uploads/2022/01/Untitled-design-2.png
GEO:28.5383355;-81.3792365
END:VEVENT
END:VCALENDAR