BEGIN:VCALENDAR
VERSION:2.0
PRODID:-//FRLA - ECPv6.15.20//NONSGML v1.0//EN
CALSCALE:GREGORIAN
METHOD:PUBLISH
X-WR-CALNAME:FRLA
X-ORIGINAL-URL:https://frla.devlara.com
X-WR-CALDESC:Events for FRLA
REFRESH-INTERVAL;VALUE=DURATION:PT1H
X-Robots-Tag:noindex
X-PUBLISHED-TTL:PT1H
BEGIN:VTIMEZONE
TZID:America/New_York
BEGIN:DAYLIGHT
TZOFFSETFROM:-0500
TZOFFSETTO:-0400
TZNAME:EDT
DTSTART:20240310T070000
END:DAYLIGHT
BEGIN:STANDARD
TZOFFSETFROM:-0400
TZOFFSETTO:-0500
TZNAME:EST
DTSTART:20241103T060000
END:STANDARD
BEGIN:DAYLIGHT
TZOFFSETFROM:-0500
TZOFFSETTO:-0400
TZNAME:EDT
DTSTART:20250309T070000
END:DAYLIGHT
BEGIN:STANDARD
TZOFFSETFROM:-0400
TZOFFSETTO:-0500
TZNAME:EST
DTSTART:20251102T060000
END:STANDARD
BEGIN:DAYLIGHT
TZOFFSETFROM:-0500
TZOFFSETTO:-0400
TZNAME:EDT
DTSTART:20260308T070000
END:DAYLIGHT
BEGIN:STANDARD
TZOFFSETFROM:-0400
TZOFFSETTO:-0500
TZNAME:EST
DTSTART:20261101T060000
END:STANDARD
BEGIN:DAYLIGHT
TZOFFSETFROM:-0500
TZOFFSETTO:-0400
TZNAME:EDT
DTSTART:20270314T070000
END:DAYLIGHT
BEGIN:STANDARD
TZOFFSETFROM:-0400
TZOFFSETTO:-0500
TZNAME:EST
DTSTART:20271107T060000
END:STANDARD
END:VTIMEZONE
BEGIN:VEVENT
DTSTART;VALUE=DATE:20260416
DTEND;VALUE=DATE:20260417
DTSTAMP:20260420T101721
CREATED:20251107T161028Z
LAST-MODIFIED:20260402T174702Z
UID:10004580-1776297600-1776383999@frla.devlara.com
SUMMARY:**SOLD OUT** Monroe - 4th Annual ROSE Awards
DESCRIPTION:**This event has SOLD OUT**\n\n4th Annual Monroe ROSE Awards\n• April 16\, 2026 •\nHawks Cay Resort\n  \nJoin us for the 4th Annual FRLA Monroe ROSE Awards on April 16\, 2026 at Hawks Cay Resort! The ROSE (Recognition of Service Excellence) Awards recognizes Monroe County Florida front line hospitality employees who demonstrate excellent customer service. These industry champions showcase the region’s commitment to creating an extraordinary visitor experience. \n  \nNominations Have Closed!\nNomination Deadline: March 9\, 2026\n\nIndividuals must be front-line employees (no management\, director\, or supervisor positions)\nOpen to all tourism related businesses in Monroe County\nIndividuals must work at their place of business for at least 90 days from the nomination deadline.\nIndividuals should exemplify the following characteristics: dependable\, enthusiastic\, serve as role models to peers\, and committed to customers.\nNominees must be present at the ROSE awards to win.\n\n \n \n 
URL:https://frla.devlara.com/event/monroe-4th-annual-rose-awards/
LOCATION:Hawks Cay Resort\, 61 Hawks Cay Blvd\, Duck Key\, FL\, 33050\, United States
CATEGORIES:Monroe
ATTACH;FMTTYPE=image/png:https://frla.devlara.com/wp-content/uploads/2025/11/Web-event-Monroe-ROSE-2026.png
ORGANIZER;CN="Lynne Hernandez":MAILTO:lhernandez@frla.devlara.com
GEO:24.7772434;-80.9134402
X-APPLE-STRUCTURED-LOCATION;VALUE=URI;X-ADDRESS=Hawks Cay Resort 61 Hawks Cay Blvd Duck Key FL 33050 United States;X-APPLE-RADIUS=500;X-TITLE=61 Hawks Cay Blvd:geo:-80.9134402,24.7772434
END:VEVENT
BEGIN:VEVENT
DTSTART;VALUE=DATE:20250515
DTEND;VALUE=DATE:20250516
DTSTAMP:20260420T101721
CREATED:20250204T212437Z
LAST-MODIFIED:20250514T195121Z
UID:10004506-1747267200-1747353599@frla.devlara.com
SUMMARY:**SOLD OUT** Monroe - 3rd Annual ROSE Awards
DESCRIPTION:**THIS EVENT HAS SOLD OUT!**\n\n \n3rd Annual Monroe ROSE Awards\n• May 15\, 2025 •\nHawks Cay Resort\n  \nJoin us for the 3rd Annual FRLA Monroe ROSE Awards on May 15\, 2025 at Hawks Cay Resort! The ROSE (Recognition of Service Excellence) Awards recognizes Monroe County Florida front line hospitality employees who demonstrate excellent customer service. These industry champions showcase the region’s commitment to creating an extraordinary visitor experience. \nThursday\, May 15\, 2025\nHawks Cay Resort\n61 Hawks Cay Blvd. Duck Key\, FL 33050 \nDress: Business/Cocktail \n  \n \nNominations have now closed. \n  \nTo View Sponsorship Opportunities\, Click Here!\nDownload this sponsorship form and send with your check to FRLA\, PO Box 566263\, Miami\, FL. 33256 or www. Keystix.com \n  \n 
URL:https://frla.devlara.com/event/monroe-3rd-annual-rose-awards/
LOCATION:Hawks Cay Resort\, 61 Hawks Cay Blvd\, Duck Key\, FL\, 33050\, United States
CATEGORIES:Monroe
ATTACH;FMTTYPE=image/png:https://frla.devlara.com/wp-content/uploads/2025/03/Web-Monroe-2025-ROSE-Award-1100-x-340-px-1.png
ORGANIZER;CN="Lynne Hernandez":MAILTO:lhernandez@frla.devlara.com
GEO:24.7772434;-80.9134402
X-APPLE-STRUCTURED-LOCATION;VALUE=URI;X-ADDRESS=Hawks Cay Resort 61 Hawks Cay Blvd Duck Key FL 33050 United States;X-APPLE-RADIUS=500;X-TITLE=61 Hawks Cay Blvd:geo:-80.9134402,24.7772434
END:VEVENT
END:VCALENDAR